BEGIN:VCALENDAR
VERSION:2.0
PRODID:-//Gar Drolma Buddhist Learning and Meditation Center - ECPv6.15.20//NONSGML v1.0//EN
CALSCALE:GREGORIAN
METHOD:PUBLISH
X-ORIGINAL-URL:https://gardrolma.org
X-WR-CALDESC:Events for Gar Drolma Buddhist Learning and Meditation Center
REFRESH-INTERVAL;VALUE=DURATION:PT1H
X-Robots-Tag:noindex
X-PUBLISHED-TTL:PT1H
BEGIN:VTIMEZONE
TZID:America/New_York
BEGIN:DAYLIGHT
TZOFFSETFROM:-0500
TZOFFSETTO:-0400
TZNAME:EDT
DTSTART:20170312T070000
END:DAYLIGHT
BEGIN:STANDARD
TZOFFSETFROM:-0400
TZOFFSETTO:-0500
TZNAME:EST
DTSTART:20171105T060000
END:STANDARD
BEGIN:DAYLIGHT
TZOFFSETFROM:-0500
TZOFFSETTO:-0400
TZNAME:EDT
DTSTART:20180311T070000
END:DAYLIGHT
BEGIN:STANDARD
TZOFFSETFROM:-0400
TZOFFSETTO:-0500
TZNAME:EST
DTSTART:20181104T060000
END:STANDARD
BEGIN:DAYLIGHT
TZOFFSETFROM:-0500
TZOFFSETTO:-0400
TZNAME:EDT
DTSTART:20190310T070000
END:DAYLIGHT
BEGIN:STANDARD
TZOFFSETFROM:-0400
TZOFFSETTO:-0500
TZNAME:EST
DTSTART:20191103T060000
END:STANDARD
END:VTIMEZONE
BEGIN:VEVENT
DTSTART;TZID=America/New_York:20181029T193000
DTEND;TZID=America/New_York:20181029T210000
DTSTAMP:20260423T223415
CREATED:20181010T222856Z
LAST-MODIFIED:20181029T165431Z
UID:10001960-1540841400-1540846800@gardrolma.org
SUMMARY:Radically Happy: A User's guide to the Mind
DESCRIPTION:Phakchok Rinpoche and Erric Solomon will introduce us to their new book\,  Radically Happy: A User’s guide to the Mind\n \n\n\n\nUPDATE: We have just learned that Phakchok Rinpoche will not be able to attend the talk in Yellow Springs this evening (10/29). Unfortunately a close family member of his is critically ill and in the hospital\, thus Rinpoche needs to be present with them now. He was not able to attend the talks in San Francisco\, Chicago and Michigan as well.  However\, his coauthor Erric Solomon did give the Radically Happy talks in those cities and will also speak here in Yellow Springs t‌oni‌gh‌t. ‌ We look forward to seeing you at the talk.\n\n\n\n\n\nEast meets West in this fresh\, modern take on a timeless challenge: how to find contentment and meaning in life. \nIn Radically Happy\, a meditating Silicon Valley entrepreneur teams up with a young\, insightful\, and traditionally educated Tibetan Rinpoche. Together they present a path to radical happiness—a sense of well-being that you can access anytime but especially when life is challenging. Using mindfulness techniques and accessible meditations\, personal stories and scientific studies\, you’ll get to know your own mind and experience how a slight shift in your perspective can create a radical shift in your life.  \nInstructors\n\n  \nQUOTES: \n“Radically Happy brings the new and the old together in a beautiful way. The combination helps us understand how meditation\, kindness\, and wisdom can make a real difference\, moment to moment in daily life.”   – Yongey Mingyur Rinpcohe \nPraise for Radically Happy: \n“Meditators or not\, we all need an easy-to-use\, pragmatic operator’s manual for the mind. You’ve found it here.”   – Daniel Goleman and Tara Bennett-Goleman \n  \n[ddownload id=”7369″ text=”Download a Flyer”]
URL:https://gardrolma.org/programs/radically-happy-a-users-guide-to-the-mind/
LOCATION:Antioch College\, Glen Helen Building\, Corry Street\, Yellow Springs\, OH\, 45387\, United States
CATEGORIES:Special
GEO:39.8009891;-83.8850876
X-APPLE-STRUCTURED-LOCATION;VALUE=URI;X-ADDRESS=Antioch College Glen Helen Building Corry Street Yellow Springs OH 45387 United States;X-APPLE-RADIUS=500;X-TITLE=Glen Helen Building\, Corry Street:geo:-83.8850876,39.8009891
END:VEVENT
END:VCALENDAR