BEGIN:VCALENDAR
VERSION:2.0
PRODID:-//Gar Drolma Buddhist Learning and Meditation Center - ECPv6.15.20//NONSGML v1.0//EN
CALSCALE:GREGORIAN
METHOD:PUBLISH
X-ORIGINAL-URL:https://gardrolma.org
X-WR-CALDESC:Events for Gar Drolma Buddhist Learning and Meditation Center
REFRESH-INTERVAL;VALUE=DURATION:PT1H
X-Robots-Tag:noindex
X-PUBLISHED-TTL:PT1H
BEGIN:VTIMEZONE
TZID:America/New_York
BEGIN:DAYLIGHT
TZOFFSETFROM:-0500
TZOFFSETTO:-0400
TZNAME:EDT
DTSTART:20150308T070000
END:DAYLIGHT
BEGIN:STANDARD
TZOFFSETFROM:-0400
TZOFFSETTO:-0500
TZNAME:EST
DTSTART:20151101T060000
END:STANDARD
BEGIN:DAYLIGHT
TZOFFSETFROM:-0500
TZOFFSETTO:-0400
TZNAME:EDT
DTSTART:20160313T070000
END:DAYLIGHT
BEGIN:STANDARD
TZOFFSETFROM:-0400
TZOFFSETTO:-0500
TZNAME:EST
DTSTART:20161106T060000
END:STANDARD
BEGIN:DAYLIGHT
TZOFFSETFROM:-0500
TZOFFSETTO:-0400
TZNAME:EDT
DTSTART:20170312T070000
END:DAYLIGHT
BEGIN:STANDARD
TZOFFSETFROM:-0400
TZOFFSETTO:-0500
TZNAME:EST
DTSTART:20171105T060000
END:STANDARD
END:VTIMEZONE
BEGIN:VEVENT
DTSTART;TZID=America/New_York:20160713T180000
DTEND;TZID=America/New_York:20160713T183000
DTSTAMP:20260423T164752
CREATED:20160713T174310Z
LAST-MODIFIED:20160713T174928Z
UID:10002008-1468432800-1468434600@gardrolma.org
SUMMARY:Open Meditation Practice
DESCRIPTION:During Open Meditation practice individuals are welcome to come to the temple for silent meditation\, shinay\, or their own mantra meditation  practice. \nThis practice is suitable for all students.
URL:https://gardrolma.org/programs/open-meditation-practice/
LOCATION:OH
CATEGORIES:Weekly
ATTACH;FMTTYPE=image/jpeg:https://gardrolma.org/wp-content/uploads/2016/07/Wednesday-open-meditation.jpg
GEO:40.4172871;-82.907123
END:VEVENT
END:VCALENDAR