BEGIN:VCALENDAR
VERSION:2.0
PRODID:-//Gar Drolma Buddhist Learning and Meditation Center - ECPv6.15.20//NONSGML v1.0//EN
CALSCALE:GREGORIAN
METHOD:PUBLISH
X-ORIGINAL-URL:https://gardrolma.org
X-WR-CALDESC:Events for Gar Drolma Buddhist Learning and Meditation Center
REFRESH-INTERVAL;VALUE=DURATION:PT1H
X-Robots-Tag:noindex
X-PUBLISHED-TTL:PT1H
BEGIN:VTIMEZONE
TZID:America/New_York
BEGIN:DAYLIGHT
TZOFFSETFROM:-0500
TZOFFSETTO:-0400
TZNAME:EDT
DTSTART:20250309T070000
END:DAYLIGHT
BEGIN:STANDARD
TZOFFSETFROM:-0400
TZOFFSETTO:-0500
TZNAME:EST
DTSTART:20251102T060000
END:STANDARD
BEGIN:DAYLIGHT
TZOFFSETFROM:-0500
TZOFFSETTO:-0400
TZNAME:EDT
DTSTART:20260308T070000
END:DAYLIGHT
BEGIN:STANDARD
TZOFFSETFROM:-0400
TZOFFSETTO:-0500
TZNAME:EST
DTSTART:20261101T060000
END:STANDARD
BEGIN:DAYLIGHT
TZOFFSETFROM:-0500
TZOFFSETTO:-0400
TZNAME:EDT
DTSTART:20270314T070000
END:DAYLIGHT
BEGIN:STANDARD
TZOFFSETFROM:-0400
TZOFFSETTO:-0500
TZNAME:EST
DTSTART:20271107T060000
END:STANDARD
END:VTIMEZONE
BEGIN:VEVENT
DTSTART;TZID=America/New_York:20260902T180000
DTEND;TZID=America/New_York:20260902T193000
DTSTAMP:20260423T160333
CREATED:20251222T172257Z
LAST-MODIFIED:20251222T172554Z
UID:10003479-1788372000-1788377400@gardrolma.org
SUMMARY:Meditation & Learning Buddhism Program (at the Center)
DESCRIPTION:At Gar Drolma Temple \n\n\n\n*This program will Not be held on zoom.  \n\n\n\n\n\nGar Drolma invites students of all levels who wish to explore Buddhism and meditation to a new in-person program ‌at the center.  \n\n\n\nYou will have the opportunity to study foundational principals of Buddhism based on the text Learning Buddhism by our Spiritual Director\, Khenpo Samdup\, and practice meditation.  \n\n\n\nEach session will be led by a Senior Student.‌ \n\n\n\n6:‌00—6‌:30 ‌p.m. Meditation Practice ‌6:3‌0—7‌:30 ‌p‌.m.  A Chapter from Learning Buddhism will be discussed \n\n\n\n\n\n\n\n\n\nResources\n\n\n\nLearning Buddhism Video Series \n\n\n\nBuddhism Books \n\n\n\n\n\n\n\n\n\nWe are only able to offer Dharma programs like this because of your kindness and generosity.Please know that your donation brings great benefit to the entire Sangha.  Thank you! \n\n\n\n\nDonations Appreciated
URL:https://gardrolma.org/programs/meditation-learning-buddhism-program-at-the-center-4/2026-09-02/
LOCATION:Gar Drolma Buddhist Center\, 1329 Creighton Ave.\, Dayton\, OH\, 45420\, United States
CATEGORIES:Weekly Meditation Learning 2026
ATTACH;FMTTYPE=image/jpeg:https://gardrolma.org/wp-content/uploads/2019/12/Buddha_resized.jpg
GEO:39.741206;-84.1541782
X-APPLE-STRUCTURED-LOCATION;VALUE=URI;X-ADDRESS=Gar Drolma Buddhist Center 1329 Creighton Ave. Dayton OH 45420 United States;X-APPLE-RADIUS=500;X-TITLE=1329 Creighton Ave.:geo:-84.1541782,39.741206
END:VEVENT
BEGIN:VEVENT
DTSTART;TZID=America/New_York:20260909T180000
DTEND;TZID=America/New_York:20260909T193000
DTSTAMP:20260423T160333
CREATED:20251222T172257Z
LAST-MODIFIED:20251222T172554Z
UID:10003480-1788976800-1788982200@gardrolma.org
SUMMARY:Meditation & Learning Buddhism Program (at the Center)
DESCRIPTION:At Gar Drolma Temple \n\n\n\n*This program will Not be held on zoom.  \n\n\n\n\n\nGar Drolma invites students of all levels who wish to explore Buddhism and meditation to a new in-person program ‌at the center.  \n\n\n\nYou will have the opportunity to study foundational principals of Buddhism based on the text Learning Buddhism by our Spiritual Director\, Khenpo Samdup\, and practice meditation.  \n\n\n\nEach session will be led by a Senior Student.‌ \n\n\n\n6:‌00—6‌:30 ‌p.m. Meditation Practice ‌6:3‌0—7‌:30 ‌p‌.m.  A Chapter from Learning Buddhism will be discussed \n\n\n\n\n\n\n\n\n\nResources\n\n\n\nLearning Buddhism Video Series \n\n\n\nBuddhism Books \n\n\n\n\n\n\n\n\n\nWe are only able to offer Dharma programs like this because of your kindness and generosity.Please know that your donation brings great benefit to the entire Sangha.  Thank you! \n\n\n\n\nDonations Appreciated
URL:https://gardrolma.org/programs/meditation-learning-buddhism-program-at-the-center-4/2026-09-09/
LOCATION:Gar Drolma Buddhist Center\, 1329 Creighton Ave.\, Dayton\, OH\, 45420\, United States
CATEGORIES:Weekly Meditation Learning 2026
ATTACH;FMTTYPE=image/jpeg:https://gardrolma.org/wp-content/uploads/2019/12/Buddha_resized.jpg
GEO:39.741206;-84.1541782
X-APPLE-STRUCTURED-LOCATION;VALUE=URI;X-ADDRESS=Gar Drolma Buddhist Center 1329 Creighton Ave. Dayton OH 45420 United States;X-APPLE-RADIUS=500;X-TITLE=1329 Creighton Ave.:geo:-84.1541782,39.741206
END:VEVENT
BEGIN:VEVENT
DTSTART;TZID=America/New_York:20260916T180000
DTEND;TZID=America/New_York:20260916T193000
DTSTAMP:20260423T160333
CREATED:20251222T172257Z
LAST-MODIFIED:20251222T172554Z
UID:10003481-1789581600-1789587000@gardrolma.org
SUMMARY:Meditation & Learning Buddhism Program (at the Center)
DESCRIPTION:At Gar Drolma Temple \n\n\n\n*This program will Not be held on zoom.  \n\n\n\n\n\nGar Drolma invites students of all levels who wish to explore Buddhism and meditation to a new in-person program ‌at the center.  \n\n\n\nYou will have the opportunity to study foundational principals of Buddhism based on the text Learning Buddhism by our Spiritual Director\, Khenpo Samdup\, and practice meditation.  \n\n\n\nEach session will be led by a Senior Student.‌ \n\n\n\n6:‌00—6‌:30 ‌p.m. Meditation Practice ‌6:3‌0—7‌:30 ‌p‌.m.  A Chapter from Learning Buddhism will be discussed \n\n\n\n\n\n\n\n\n\nResources\n\n\n\nLearning Buddhism Video Series \n\n\n\nBuddhism Books \n\n\n\n\n\n\n\n\n\nWe are only able to offer Dharma programs like this because of your kindness and generosity.Please know that your donation brings great benefit to the entire Sangha.  Thank you! \n\n\n\n\nDonations Appreciated
URL:https://gardrolma.org/programs/meditation-learning-buddhism-program-at-the-center-4/2026-09-16/
LOCATION:Gar Drolma Buddhist Center\, 1329 Creighton Ave.\, Dayton\, OH\, 45420\, United States
CATEGORIES:Weekly Meditation Learning 2026
ATTACH;FMTTYPE=image/jpeg:https://gardrolma.org/wp-content/uploads/2019/12/Buddha_resized.jpg
GEO:39.741206;-84.1541782
X-APPLE-STRUCTURED-LOCATION;VALUE=URI;X-ADDRESS=Gar Drolma Buddhist Center 1329 Creighton Ave. Dayton OH 45420 United States;X-APPLE-RADIUS=500;X-TITLE=1329 Creighton Ave.:geo:-84.1541782,39.741206
END:VEVENT
BEGIN:VEVENT
DTSTART;TZID=America/New_York:20260923T180000
DTEND;TZID=America/New_York:20260923T193000
DTSTAMP:20260423T160333
CREATED:20251222T172257Z
LAST-MODIFIED:20251222T172554Z
UID:10003482-1790186400-1790191800@gardrolma.org
SUMMARY:Meditation & Learning Buddhism Program (at the Center)
DESCRIPTION:At Gar Drolma Temple \n\n\n\n*This program will Not be held on zoom.  \n\n\n\n\n\nGar Drolma invites students of all levels who wish to explore Buddhism and meditation to a new in-person program ‌at the center.  \n\n\n\nYou will have the opportunity to study foundational principals of Buddhism based on the text Learning Buddhism by our Spiritual Director\, Khenpo Samdup\, and practice meditation.  \n\n\n\nEach session will be led by a Senior Student.‌ \n\n\n\n6:‌00—6‌:30 ‌p.m. Meditation Practice ‌6:3‌0—7‌:30 ‌p‌.m.  A Chapter from Learning Buddhism will be discussed \n\n\n\n\n\n\n\n\n\nResources\n\n\n\nLearning Buddhism Video Series \n\n\n\nBuddhism Books \n\n\n\n\n\n\n\n\n\nWe are only able to offer Dharma programs like this because of your kindness and generosity.Please know that your donation brings great benefit to the entire Sangha.  Thank you! \n\n\n\n\nDonations Appreciated
URL:https://gardrolma.org/programs/meditation-learning-buddhism-program-at-the-center-4/2026-09-23/
LOCATION:Gar Drolma Buddhist Center\, 1329 Creighton Ave.\, Dayton\, OH\, 45420\, United States
CATEGORIES:Weekly Meditation Learning 2026
ATTACH;FMTTYPE=image/jpeg:https://gardrolma.org/wp-content/uploads/2019/12/Buddha_resized.jpg
GEO:39.741206;-84.1541782
X-APPLE-STRUCTURED-LOCATION;VALUE=URI;X-ADDRESS=Gar Drolma Buddhist Center 1329 Creighton Ave. Dayton OH 45420 United States;X-APPLE-RADIUS=500;X-TITLE=1329 Creighton Ave.:geo:-84.1541782,39.741206
END:VEVENT
BEGIN:VEVENT
DTSTART;TZID=America/New_York:20260930T180000
DTEND;TZID=America/New_York:20260930T193000
DTSTAMP:20260423T160334
CREATED:20251222T172257Z
LAST-MODIFIED:20251222T172554Z
UID:10003483-1790791200-1790796600@gardrolma.org
SUMMARY:Meditation & Learning Buddhism Program (at the Center)
DESCRIPTION:At Gar Drolma Temple \n\n\n\n*This program will Not be held on zoom.  \n\n\n\n\n\nGar Drolma invites students of all levels who wish to explore Buddhism and meditation to a new in-person program ‌at the center.  \n\n\n\nYou will have the opportunity to study foundational principals of Buddhism based on the text Learning Buddhism by our Spiritual Director\, Khenpo Samdup\, and practice meditation.  \n\n\n\nEach session will be led by a Senior Student.‌ \n\n\n\n6:‌00—6‌:30 ‌p.m. Meditation Practice ‌6:3‌0—7‌:30 ‌p‌.m.  A Chapter from Learning Buddhism will be discussed \n\n\n\n\n\n\n\n\n\nResources\n\n\n\nLearning Buddhism Video Series \n\n\n\nBuddhism Books \n\n\n\n\n\n\n\n\n\nWe are only able to offer Dharma programs like this because of your kindness and generosity.Please know that your donation brings great benefit to the entire Sangha.  Thank you! \n\n\n\n\nDonations Appreciated
URL:https://gardrolma.org/programs/meditation-learning-buddhism-program-at-the-center-4/2026-09-30/
LOCATION:Gar Drolma Buddhist Center\, 1329 Creighton Ave.\, Dayton\, OH\, 45420\, United States
CATEGORIES:Weekly Meditation Learning 2026
ATTACH;FMTTYPE=image/jpeg:https://gardrolma.org/wp-content/uploads/2019/12/Buddha_resized.jpg
GEO:39.741206;-84.1541782
X-APPLE-STRUCTURED-LOCATION;VALUE=URI;X-ADDRESS=Gar Drolma Buddhist Center 1329 Creighton Ave. Dayton OH 45420 United States;X-APPLE-RADIUS=500;X-TITLE=1329 Creighton Ave.:geo:-84.1541782,39.741206
END:VEVENT
BEGIN:VEVENT
DTSTART;TZID=America/New_York:20261007T180000
DTEND;TZID=America/New_York:20261007T193000
DTSTAMP:20260423T160334
CREATED:20251222T172257Z
LAST-MODIFIED:20251222T172554Z
UID:10003484-1791396000-1791401400@gardrolma.org
SUMMARY:Meditation & Learning Buddhism Program (at the Center)
DESCRIPTION:At Gar Drolma Temple \n\n\n\n*This program will Not be held on zoom.  \n\n\n\n\n\nGar Drolma invites students of all levels who wish to explore Buddhism and meditation to a new in-person program ‌at the center.  \n\n\n\nYou will have the opportunity to study foundational principals of Buddhism based on the text Learning Buddhism by our Spiritual Director\, Khenpo Samdup\, and practice meditation.  \n\n\n\nEach session will be led by a Senior Student.‌ \n\n\n\n6:‌00—6‌:30 ‌p.m. Meditation Practice ‌6:3‌0—7‌:30 ‌p‌.m.  A Chapter from Learning Buddhism will be discussed \n\n\n\n\n\n\n\n\n\nResources\n\n\n\nLearning Buddhism Video Series \n\n\n\nBuddhism Books \n\n\n\n\n\n\n\n\n\nWe are only able to offer Dharma programs like this because of your kindness and generosity.Please know that your donation brings great benefit to the entire Sangha.  Thank you! \n\n\n\n\nDonations Appreciated
URL:https://gardrolma.org/programs/meditation-learning-buddhism-program-at-the-center-4/2026-10-07/
LOCATION:Gar Drolma Buddhist Center\, 1329 Creighton Ave.\, Dayton\, OH\, 45420\, United States
CATEGORIES:Weekly Meditation Learning 2026
ATTACH;FMTTYPE=image/jpeg:https://gardrolma.org/wp-content/uploads/2019/12/Buddha_resized.jpg
GEO:39.741206;-84.1541782
X-APPLE-STRUCTURED-LOCATION;VALUE=URI;X-ADDRESS=Gar Drolma Buddhist Center 1329 Creighton Ave. Dayton OH 45420 United States;X-APPLE-RADIUS=500;X-TITLE=1329 Creighton Ave.:geo:-84.1541782,39.741206
END:VEVENT
BEGIN:VEVENT
DTSTART;TZID=America/New_York:20261014T180000
DTEND;TZID=America/New_York:20261014T193000
DTSTAMP:20260423T160334
CREATED:20251222T172257Z
LAST-MODIFIED:20251222T172554Z
UID:10003485-1792000800-1792006200@gardrolma.org
SUMMARY:Meditation & Learning Buddhism Program (at the Center)
DESCRIPTION:At Gar Drolma Temple \n\n\n\n*This program will Not be held on zoom.  \n\n\n\n\n\nGar Drolma invites students of all levels who wish to explore Buddhism and meditation to a new in-person program ‌at the center.  \n\n\n\nYou will have the opportunity to study foundational principals of Buddhism based on the text Learning Buddhism by our Spiritual Director\, Khenpo Samdup\, and practice meditation.  \n\n\n\nEach session will be led by a Senior Student.‌ \n\n\n\n6:‌00—6‌:30 ‌p.m. Meditation Practice ‌6:3‌0—7‌:30 ‌p‌.m.  A Chapter from Learning Buddhism will be discussed \n\n\n\n\n\n\n\n\n\nResources\n\n\n\nLearning Buddhism Video Series \n\n\n\nBuddhism Books \n\n\n\n\n\n\n\n\n\nWe are only able to offer Dharma programs like this because of your kindness and generosity.Please know that your donation brings great benefit to the entire Sangha.  Thank you! \n\n\n\n\nDonations Appreciated
URL:https://gardrolma.org/programs/meditation-learning-buddhism-program-at-the-center-4/2026-10-14/
LOCATION:Gar Drolma Buddhist Center\, 1329 Creighton Ave.\, Dayton\, OH\, 45420\, United States
CATEGORIES:Weekly Meditation Learning 2026
ATTACH;FMTTYPE=image/jpeg:https://gardrolma.org/wp-content/uploads/2019/12/Buddha_resized.jpg
GEO:39.741206;-84.1541782
X-APPLE-STRUCTURED-LOCATION;VALUE=URI;X-ADDRESS=Gar Drolma Buddhist Center 1329 Creighton Ave. Dayton OH 45420 United States;X-APPLE-RADIUS=500;X-TITLE=1329 Creighton Ave.:geo:-84.1541782,39.741206
END:VEVENT
BEGIN:VEVENT
DTSTART;TZID=America/New_York:20261021T180000
DTEND;TZID=America/New_York:20261021T193000
DTSTAMP:20260423T160334
CREATED:20251222T172257Z
LAST-MODIFIED:20251222T172554Z
UID:10003486-1792605600-1792611000@gardrolma.org
SUMMARY:Meditation & Learning Buddhism Program (at the Center)
DESCRIPTION:At Gar Drolma Temple \n\n\n\n*This program will Not be held on zoom.  \n\n\n\n\n\nGar Drolma invites students of all levels who wish to explore Buddhism and meditation to a new in-person program ‌at the center.  \n\n\n\nYou will have the opportunity to study foundational principals of Buddhism based on the text Learning Buddhism by our Spiritual Director\, Khenpo Samdup\, and practice meditation.  \n\n\n\nEach session will be led by a Senior Student.‌ \n\n\n\n6:‌00—6‌:30 ‌p.m. Meditation Practice ‌6:3‌0—7‌:30 ‌p‌.m.  A Chapter from Learning Buddhism will be discussed \n\n\n\n\n\n\n\n\n\nResources\n\n\n\nLearning Buddhism Video Series \n\n\n\nBuddhism Books \n\n\n\n\n\n\n\n\n\nWe are only able to offer Dharma programs like this because of your kindness and generosity.Please know that your donation brings great benefit to the entire Sangha.  Thank you! \n\n\n\n\nDonations Appreciated
URL:https://gardrolma.org/programs/meditation-learning-buddhism-program-at-the-center-4/2026-10-21/
LOCATION:Gar Drolma Buddhist Center\, 1329 Creighton Ave.\, Dayton\, OH\, 45420\, United States
CATEGORIES:Weekly Meditation Learning 2026
ATTACH;FMTTYPE=image/jpeg:https://gardrolma.org/wp-content/uploads/2019/12/Buddha_resized.jpg
GEO:39.741206;-84.1541782
X-APPLE-STRUCTURED-LOCATION;VALUE=URI;X-ADDRESS=Gar Drolma Buddhist Center 1329 Creighton Ave. Dayton OH 45420 United States;X-APPLE-RADIUS=500;X-TITLE=1329 Creighton Ave.:geo:-84.1541782,39.741206
END:VEVENT
BEGIN:VEVENT
DTSTART;TZID=America/New_York:20261028T180000
DTEND;TZID=America/New_York:20261028T193000
DTSTAMP:20260423T160334
CREATED:20251222T172257Z
LAST-MODIFIED:20251222T172554Z
UID:10003487-1793210400-1793215800@gardrolma.org
SUMMARY:Meditation & Learning Buddhism Program (at the Center)
DESCRIPTION:At Gar Drolma Temple \n\n\n\n*This program will Not be held on zoom.  \n\n\n\n\n\nGar Drolma invites students of all levels who wish to explore Buddhism and meditation to a new in-person program ‌at the center.  \n\n\n\nYou will have the opportunity to study foundational principals of Buddhism based on the text Learning Buddhism by our Spiritual Director\, Khenpo Samdup\, and practice meditation.  \n\n\n\nEach session will be led by a Senior Student.‌ \n\n\n\n6:‌00—6‌:30 ‌p.m. Meditation Practice ‌6:3‌0—7‌:30 ‌p‌.m.  A Chapter from Learning Buddhism will be discussed \n\n\n\n\n\n\n\n\n\nResources\n\n\n\nLearning Buddhism Video Series \n\n\n\nBuddhism Books \n\n\n\n\n\n\n\n\n\nWe are only able to offer Dharma programs like this because of your kindness and generosity.Please know that your donation brings great benefit to the entire Sangha.  Thank you! \n\n\n\n\nDonations Appreciated
URL:https://gardrolma.org/programs/meditation-learning-buddhism-program-at-the-center-4/2026-10-28/
LOCATION:Gar Drolma Buddhist Center\, 1329 Creighton Ave.\, Dayton\, OH\, 45420\, United States
CATEGORIES:Weekly Meditation Learning 2026
ATTACH;FMTTYPE=image/jpeg:https://gardrolma.org/wp-content/uploads/2019/12/Buddha_resized.jpg
GEO:39.741206;-84.1541782
X-APPLE-STRUCTURED-LOCATION;VALUE=URI;X-ADDRESS=Gar Drolma Buddhist Center 1329 Creighton Ave. Dayton OH 45420 United States;X-APPLE-RADIUS=500;X-TITLE=1329 Creighton Ave.:geo:-84.1541782,39.741206
END:VEVENT
BEGIN:VEVENT
DTSTART;TZID=America/New_York:20261104T180000
DTEND;TZID=America/New_York:20261104T193000
DTSTAMP:20260423T160334
CREATED:20251222T172257Z
LAST-MODIFIED:20251222T172554Z
UID:10003488-1793815200-1793820600@gardrolma.org
SUMMARY:Meditation & Learning Buddhism Program (at the Center)
DESCRIPTION:At Gar Drolma Temple \n\n\n\n*This program will Not be held on zoom.  \n\n\n\n\n\nGar Drolma invites students of all levels who wish to explore Buddhism and meditation to a new in-person program ‌at the center.  \n\n\n\nYou will have the opportunity to study foundational principals of Buddhism based on the text Learning Buddhism by our Spiritual Director\, Khenpo Samdup\, and practice meditation.  \n\n\n\nEach session will be led by a Senior Student.‌ \n\n\n\n6:‌00—6‌:30 ‌p.m. Meditation Practice ‌6:3‌0—7‌:30 ‌p‌.m.  A Chapter from Learning Buddhism will be discussed \n\n\n\n\n\n\n\n\n\nResources\n\n\n\nLearning Buddhism Video Series \n\n\n\nBuddhism Books \n\n\n\n\n\n\n\n\n\nWe are only able to offer Dharma programs like this because of your kindness and generosity.Please know that your donation brings great benefit to the entire Sangha.  Thank you! \n\n\n\n\nDonations Appreciated
URL:https://gardrolma.org/programs/meditation-learning-buddhism-program-at-the-center-4/2026-11-04/
LOCATION:Gar Drolma Buddhist Center\, 1329 Creighton Ave.\, Dayton\, OH\, 45420\, United States
CATEGORIES:Weekly Meditation Learning 2026
ATTACH;FMTTYPE=image/jpeg:https://gardrolma.org/wp-content/uploads/2019/12/Buddha_resized.jpg
GEO:39.741206;-84.1541782
X-APPLE-STRUCTURED-LOCATION;VALUE=URI;X-ADDRESS=Gar Drolma Buddhist Center 1329 Creighton Ave. Dayton OH 45420 United States;X-APPLE-RADIUS=500;X-TITLE=1329 Creighton Ave.:geo:-84.1541782,39.741206
END:VEVENT
BEGIN:VEVENT
DTSTART;TZID=America/New_York:20261111T180000
DTEND;TZID=America/New_York:20261111T193000
DTSTAMP:20260423T160334
CREATED:20251222T172257Z
LAST-MODIFIED:20251222T172554Z
UID:10003489-1794420000-1794425400@gardrolma.org
SUMMARY:Meditation & Learning Buddhism Program (at the Center)
DESCRIPTION:At Gar Drolma Temple \n\n\n\n*This program will Not be held on zoom.  \n\n\n\n\n\nGar Drolma invites students of all levels who wish to explore Buddhism and meditation to a new in-person program ‌at the center.  \n\n\n\nYou will have the opportunity to study foundational principals of Buddhism based on the text Learning Buddhism by our Spiritual Director\, Khenpo Samdup\, and practice meditation.  \n\n\n\nEach session will be led by a Senior Student.‌ \n\n\n\n6:‌00—6‌:30 ‌p.m. Meditation Practice ‌6:3‌0—7‌:30 ‌p‌.m.  A Chapter from Learning Buddhism will be discussed \n\n\n\n\n\n\n\n\n\nResources\n\n\n\nLearning Buddhism Video Series \n\n\n\nBuddhism Books \n\n\n\n\n\n\n\n\n\nWe are only able to offer Dharma programs like this because of your kindness and generosity.Please know that your donation brings great benefit to the entire Sangha.  Thank you! \n\n\n\n\nDonations Appreciated
URL:https://gardrolma.org/programs/meditation-learning-buddhism-program-at-the-center-4/2026-11-11/
LOCATION:Gar Drolma Buddhist Center\, 1329 Creighton Ave.\, Dayton\, OH\, 45420\, United States
CATEGORIES:Weekly Meditation Learning 2026
ATTACH;FMTTYPE=image/jpeg:https://gardrolma.org/wp-content/uploads/2019/12/Buddha_resized.jpg
GEO:39.741206;-84.1541782
X-APPLE-STRUCTURED-LOCATION;VALUE=URI;X-ADDRESS=Gar Drolma Buddhist Center 1329 Creighton Ave. Dayton OH 45420 United States;X-APPLE-RADIUS=500;X-TITLE=1329 Creighton Ave.:geo:-84.1541782,39.741206
END:VEVENT
BEGIN:VEVENT
DTSTART;TZID=America/New_York:20261118T180000
DTEND;TZID=America/New_York:20261118T193000
DTSTAMP:20260423T160334
CREATED:20251222T172257Z
LAST-MODIFIED:20251222T172554Z
UID:10003490-1795024800-1795030200@gardrolma.org
SUMMARY:Meditation & Learning Buddhism Program (at the Center)
DESCRIPTION:At Gar Drolma Temple \n\n\n\n*This program will Not be held on zoom.  \n\n\n\n\n\nGar Drolma invites students of all levels who wish to explore Buddhism and meditation to a new in-person program ‌at the center.  \n\n\n\nYou will have the opportunity to study foundational principals of Buddhism based on the text Learning Buddhism by our Spiritual Director\, Khenpo Samdup\, and practice meditation.  \n\n\n\nEach session will be led by a Senior Student.‌ \n\n\n\n6:‌00—6‌:30 ‌p.m. Meditation Practice ‌6:3‌0—7‌:30 ‌p‌.m.  A Chapter from Learning Buddhism will be discussed \n\n\n\n\n\n\n\n\n\nResources\n\n\n\nLearning Buddhism Video Series \n\n\n\nBuddhism Books \n\n\n\n\n\n\n\n\n\nWe are only able to offer Dharma programs like this because of your kindness and generosity.Please know that your donation brings great benefit to the entire Sangha.  Thank you! \n\n\n\n\nDonations Appreciated
URL:https://gardrolma.org/programs/meditation-learning-buddhism-program-at-the-center-4/2026-11-18/
LOCATION:Gar Drolma Buddhist Center\, 1329 Creighton Ave.\, Dayton\, OH\, 45420\, United States
CATEGORIES:Weekly Meditation Learning 2026
ATTACH;FMTTYPE=image/jpeg:https://gardrolma.org/wp-content/uploads/2019/12/Buddha_resized.jpg
GEO:39.741206;-84.1541782
X-APPLE-STRUCTURED-LOCATION;VALUE=URI;X-ADDRESS=Gar Drolma Buddhist Center 1329 Creighton Ave. Dayton OH 45420 United States;X-APPLE-RADIUS=500;X-TITLE=1329 Creighton Ave.:geo:-84.1541782,39.741206
END:VEVENT
BEGIN:VEVENT
DTSTART;TZID=America/New_York:20261125T180000
DTEND;TZID=America/New_York:20261125T193000
DTSTAMP:20260423T160334
CREATED:20251222T172257Z
LAST-MODIFIED:20251222T172554Z
UID:10003491-1795629600-1795635000@gardrolma.org
SUMMARY:Meditation & Learning Buddhism Program (at the Center)
DESCRIPTION:At Gar Drolma Temple \n\n\n\n*This program will Not be held on zoom.  \n\n\n\n\n\nGar Drolma invites students of all levels who wish to explore Buddhism and meditation to a new in-person program ‌at the center.  \n\n\n\nYou will have the opportunity to study foundational principals of Buddhism based on the text Learning Buddhism by our Spiritual Director\, Khenpo Samdup\, and practice meditation.  \n\n\n\nEach session will be led by a Senior Student.‌ \n\n\n\n6:‌00—6‌:30 ‌p.m. Meditation Practice ‌6:3‌0—7‌:30 ‌p‌.m.  A Chapter from Learning Buddhism will be discussed \n\n\n\n\n\n\n\n\n\nResources\n\n\n\nLearning Buddhism Video Series \n\n\n\nBuddhism Books \n\n\n\n\n\n\n\n\n\nWe are only able to offer Dharma programs like this because of your kindness and generosity.Please know that your donation brings great benefit to the entire Sangha.  Thank you! \n\n\n\n\nDonations Appreciated
URL:https://gardrolma.org/programs/meditation-learning-buddhism-program-at-the-center-4/2026-11-25/
LOCATION:Gar Drolma Buddhist Center\, 1329 Creighton Ave.\, Dayton\, OH\, 45420\, United States
CATEGORIES:Weekly Meditation Learning 2026
ATTACH;FMTTYPE=image/jpeg:https://gardrolma.org/wp-content/uploads/2019/12/Buddha_resized.jpg
GEO:39.741206;-84.1541782
X-APPLE-STRUCTURED-LOCATION;VALUE=URI;X-ADDRESS=Gar Drolma Buddhist Center 1329 Creighton Ave. Dayton OH 45420 United States;X-APPLE-RADIUS=500;X-TITLE=1329 Creighton Ave.:geo:-84.1541782,39.741206
END:VEVENT
BEGIN:VEVENT
DTSTART;TZID=America/New_York:20261202T180000
DTEND;TZID=America/New_York:20261202T193000
DTSTAMP:20260423T160334
CREATED:20251222T172257Z
LAST-MODIFIED:20251222T172554Z
UID:10003492-1796234400-1796239800@gardrolma.org
SUMMARY:Meditation & Learning Buddhism Program (at the Center)
DESCRIPTION:At Gar Drolma Temple \n\n\n\n*This program will Not be held on zoom.  \n\n\n\n\n\nGar Drolma invites students of all levels who wish to explore Buddhism and meditation to a new in-person program ‌at the center.  \n\n\n\nYou will have the opportunity to study foundational principals of Buddhism based on the text Learning Buddhism by our Spiritual Director\, Khenpo Samdup\, and practice meditation.  \n\n\n\nEach session will be led by a Senior Student.‌ \n\n\n\n6:‌00—6‌:30 ‌p.m. Meditation Practice ‌6:3‌0—7‌:30 ‌p‌.m.  A Chapter from Learning Buddhism will be discussed \n\n\n\n\n\n\n\n\n\nResources\n\n\n\nLearning Buddhism Video Series \n\n\n\nBuddhism Books \n\n\n\n\n\n\n\n\n\nWe are only able to offer Dharma programs like this because of your kindness and generosity.Please know that your donation brings great benefit to the entire Sangha.  Thank you! \n\n\n\n\nDonations Appreciated
URL:https://gardrolma.org/programs/meditation-learning-buddhism-program-at-the-center-4/2026-12-02/
LOCATION:Gar Drolma Buddhist Center\, 1329 Creighton Ave.\, Dayton\, OH\, 45420\, United States
CATEGORIES:Weekly Meditation Learning 2026
ATTACH;FMTTYPE=image/jpeg:https://gardrolma.org/wp-content/uploads/2019/12/Buddha_resized.jpg
GEO:39.741206;-84.1541782
X-APPLE-STRUCTURED-LOCATION;VALUE=URI;X-ADDRESS=Gar Drolma Buddhist Center 1329 Creighton Ave. Dayton OH 45420 United States;X-APPLE-RADIUS=500;X-TITLE=1329 Creighton Ave.:geo:-84.1541782,39.741206
END:VEVENT
BEGIN:VEVENT
DTSTART;TZID=America/New_York:20261209T180000
DTEND;TZID=America/New_York:20261209T193000
DTSTAMP:20260423T160334
CREATED:20251222T172257Z
LAST-MODIFIED:20251222T172554Z
UID:10003493-1796839200-1796844600@gardrolma.org
SUMMARY:Meditation & Learning Buddhism Program (at the Center)
DESCRIPTION:At Gar Drolma Temple \n\n\n\n*This program will Not be held on zoom.  \n\n\n\n\n\nGar Drolma invites students of all levels who wish to explore Buddhism and meditation to a new in-person program ‌at the center.  \n\n\n\nYou will have the opportunity to study foundational principals of Buddhism based on the text Learning Buddhism by our Spiritual Director\, Khenpo Samdup\, and practice meditation.  \n\n\n\nEach session will be led by a Senior Student.‌ \n\n\n\n6:‌00—6‌:30 ‌p.m. Meditation Practice ‌6:3‌0—7‌:30 ‌p‌.m.  A Chapter from Learning Buddhism will be discussed \n\n\n\n\n\n\n\n\n\nResources\n\n\n\nLearning Buddhism Video Series \n\n\n\nBuddhism Books \n\n\n\n\n\n\n\n\n\nWe are only able to offer Dharma programs like this because of your kindness and generosity.Please know that your donation brings great benefit to the entire Sangha.  Thank you! \n\n\n\n\nDonations Appreciated
URL:https://gardrolma.org/programs/meditation-learning-buddhism-program-at-the-center-4/2026-12-09/
LOCATION:Gar Drolma Buddhist Center\, 1329 Creighton Ave.\, Dayton\, OH\, 45420\, United States
CATEGORIES:Weekly Meditation Learning 2026
ATTACH;FMTTYPE=image/jpeg:https://gardrolma.org/wp-content/uploads/2019/12/Buddha_resized.jpg
GEO:39.741206;-84.1541782
X-APPLE-STRUCTURED-LOCATION;VALUE=URI;X-ADDRESS=Gar Drolma Buddhist Center 1329 Creighton Ave. Dayton OH 45420 United States;X-APPLE-RADIUS=500;X-TITLE=1329 Creighton Ave.:geo:-84.1541782,39.741206
END:VEVENT
BEGIN:VEVENT
DTSTART;TZID=America/New_York:20261216T180000
DTEND;TZID=America/New_York:20261216T193000
DTSTAMP:20260423T160334
CREATED:20251222T172257Z
LAST-MODIFIED:20251222T172554Z
UID:10003494-1797444000-1797449400@gardrolma.org
SUMMARY:Meditation & Learning Buddhism Program (at the Center)
DESCRIPTION:At Gar Drolma Temple \n\n\n\n*This program will Not be held on zoom.  \n\n\n\n\n\nGar Drolma invites students of all levels who wish to explore Buddhism and meditation to a new in-person program ‌at the center.  \n\n\n\nYou will have the opportunity to study foundational principals of Buddhism based on the text Learning Buddhism by our Spiritual Director\, Khenpo Samdup\, and practice meditation.  \n\n\n\nEach session will be led by a Senior Student.‌ \n\n\n\n6:‌00—6‌:30 ‌p.m. Meditation Practice ‌6:3‌0—7‌:30 ‌p‌.m.  A Chapter from Learning Buddhism will be discussed \n\n\n\n\n\n\n\n\n\nResources\n\n\n\nLearning Buddhism Video Series \n\n\n\nBuddhism Books \n\n\n\n\n\n\n\n\n\nWe are only able to offer Dharma programs like this because of your kindness and generosity.Please know that your donation brings great benefit to the entire Sangha.  Thank you! \n\n\n\n\nDonations Appreciated
URL:https://gardrolma.org/programs/meditation-learning-buddhism-program-at-the-center-4/2026-12-16/
LOCATION:Gar Drolma Buddhist Center\, 1329 Creighton Ave.\, Dayton\, OH\, 45420\, United States
CATEGORIES:Weekly Meditation Learning 2026
ATTACH;FMTTYPE=image/jpeg:https://gardrolma.org/wp-content/uploads/2019/12/Buddha_resized.jpg
GEO:39.741206;-84.1541782
X-APPLE-STRUCTURED-LOCATION;VALUE=URI;X-ADDRESS=Gar Drolma Buddhist Center 1329 Creighton Ave. Dayton OH 45420 United States;X-APPLE-RADIUS=500;X-TITLE=1329 Creighton Ave.:geo:-84.1541782,39.741206
END:VEVENT
END:VCALENDAR