BEGIN:VCALENDAR
VERSION:2.0
PRODID:-//Gar Drolma Buddhist Learning and Meditation Center - ECPv6.15.20//NONSGML v1.0//EN
CALSCALE:GREGORIAN
METHOD:PUBLISH
X-ORIGINAL-URL:https://gardrolma.org
X-WR-CALDESC:Events for Gar Drolma Buddhist Learning and Meditation Center
REFRESH-INTERVAL;VALUE=DURATION:PT1H
X-Robots-Tag:noindex
X-PUBLISHED-TTL:PT1H
BEGIN:VTIMEZONE
TZID:America/New_York
BEGIN:DAYLIGHT
TZOFFSETFROM:-0500
TZOFFSETTO:-0400
TZNAME:EDT
DTSTART:20250309T070000
END:DAYLIGHT
BEGIN:STANDARD
TZOFFSETFROM:-0400
TZOFFSETTO:-0500
TZNAME:EST
DTSTART:20251102T060000
END:STANDARD
BEGIN:DAYLIGHT
TZOFFSETFROM:-0500
TZOFFSETTO:-0400
TZNAME:EDT
DTSTART:20260308T070000
END:DAYLIGHT
BEGIN:STANDARD
TZOFFSETFROM:-0400
TZOFFSETTO:-0500
TZNAME:EST
DTSTART:20261101T060000
END:STANDARD
BEGIN:DAYLIGHT
TZOFFSETFROM:-0500
TZOFFSETTO:-0400
TZNAME:EDT
DTSTART:20270314T070000
END:DAYLIGHT
BEGIN:STANDARD
TZOFFSETFROM:-0400
TZOFFSETTO:-0500
TZNAME:EST
DTSTART:20271107T060000
END:STANDARD
END:VTIMEZONE
BEGIN:VEVENT
DTSTART;TZID=America/New_York:20260411T090000
DTEND;TZID=America/New_York:20260411T100000
DTSTAMP:20260419T195328
CREATED:20260406T172144Z
LAST-MODIFIED:20260406T172807Z
UID:10003552-1775898000-1775901600@gardrolma.org
SUMMARY:The 3 Statements that Strike the Vital Point Tsik Sum Né Dek 
DESCRIPTION:Based on the commentary by Patrul RinpocheThe Special Teaching of the Wise and Glorious King*\n\n\n\nwith Khenpo Samdup Rinpoche \n\n\n\n\n\n\n\n\n\n\n\nS‌ATU‌RD‌AY\, April 11th and SUNDAY\, April 12th\n\n\n\n\n\n\n\n**9:00 am – 10:00 am EDT – Teachings10:00 am EDT – Daily Practice \n\n\n\nKhenpo Samdup Rinpoche will present teachings from Patrul Rinpoche’s text\, which serves as a detailed explanation of the Three Lines teaching originally given by Garab Dorje. Patrul based his commentary on these three lines and elaborated on them to make their meaning more accessible and easier to understand. \n\n\n\n*Khenpo has requested that we commit to listen to every teaching in this Dzogchen series\, approximately 2‌ we‌ek‌en‌ds. Students are encouraged to join online during each teaching session. \n\n\n\n**Mandarin and Spanish translation available. \n\n\n\n\n\n\n\nPlease click below to get Zoom info or to make a donation.\n\n\n\n\nRequest Zoom Info Here\n\n\n\nDonations Appreciated\n\n\n\n\nWe are only able to offer Dharma programs like this because of your kindness and generosity. Please know that your donation brings great benefit to the entire Sangha. Thank you!
URL:https://gardrolma.org/programs/the-3-statements-that-strike-the-vital-point-tsik-sum-ne-dek-5/
LOCATION:Gar Drolma Buddhist Center\, 1329 Creighton Ave.\, Dayton\, OH\, 45420\, United States
CATEGORIES:Special
ATTACH;FMTTYPE=image/webp:https://gardrolma.org/wp-content/uploads/2026/04/KhenpoField_SQUARE.webp
GEO:39.741206;-84.1541782
X-APPLE-STRUCTURED-LOCATION;VALUE=URI;X-ADDRESS=Gar Drolma Buddhist Center 1329 Creighton Ave. Dayton OH 45420 United States;X-APPLE-RADIUS=500;X-TITLE=1329 Creighton Ave.:geo:-84.1541782,39.741206
END:VEVENT
BEGIN:VEVENT
DTSTART;TZID=America/New_York:20260412T090000
DTEND;TZID=America/New_York:20260412T100000
DTSTAMP:20260419T195328
CREATED:20260406T173014Z
LAST-MODIFIED:20260406T173055Z
UID:10003553-1775984400-1775988000@gardrolma.org
SUMMARY:The 3 Statements that Strike the Vital Point Tsik Sum Né Dek 
DESCRIPTION:Based on the commentary by Patrul RinpocheThe Special Teaching of the Wise and Glorious King*\n\n\n\nwith Khenpo Samdup Rinpoche \n\n\n\n\n\n\n\n\n\n\n\nS‌ATU‌RD‌AY\, April 11th and SUNDAY\, April 12th\n\n\n\n\n\n\n\n**9:00 am – 10:00 am EDT – Teachings10:00 am EDT – Daily Practice \n\n\n\nKhenpo Samdup Rinpoche will present teachings from Patrul Rinpoche’s text\, which serves as a detailed explanation of the Three Lines teaching originally given by Garab Dorje. Patrul based his commentary on these three lines and elaborated on them to make their meaning more accessible and easier to understand. \n\n\n\n*Khenpo has requested that we commit to listen to every teaching in this Dzogchen series\, approximately 2‌ we‌ek‌en‌ds. Students are encouraged to join online during each teaching session. \n\n\n\n**Mandarin and Spanish translation available. \n\n\n\n\n\n\n\nPlease click below to get Zoom info or to make a donation.\n\n\n\n\nRequest Zoom Info Here\n\n\n\nDonations Appreciated\n\n\n\n\nWe are only able to offer Dharma programs like this because of your kindness and generosity. Please know that your donation brings great benefit to the entire Sangha. Thank you!
URL:https://gardrolma.org/programs/the-3-statements-that-strike-the-vital-point-tsik-sum-ne-dek-6/
LOCATION:Gar Drolma Buddhist Center\, 1329 Creighton Ave.\, Dayton\, OH\, 45420\, United States
CATEGORIES:Special
ATTACH;FMTTYPE=image/webp:https://gardrolma.org/wp-content/uploads/2026/04/KhenpoField_SQUARE.webp
GEO:39.741206;-84.1541782
X-APPLE-STRUCTURED-LOCATION;VALUE=URI;X-ADDRESS=Gar Drolma Buddhist Center 1329 Creighton Ave. Dayton OH 45420 United States;X-APPLE-RADIUS=500;X-TITLE=1329 Creighton Ave.:geo:-84.1541782,39.741206
END:VEVENT
BEGIN:VEVENT
DTSTART;TZID=America/New_York:20260417T123000
DTEND;TZID=America/New_York:20260417T133000
DTSTAMP:20260419T195328
CREATED:20250210T181842Z
LAST-MODIFIED:20260414T222033Z
UID:10003557-1776429000-1776432600@gardrolma.org
SUMMARY:Buddha Amitabha Practice & Great Drikung Phowa Chenmo Practice\, “The Standing Blade of Grass” 
DESCRIPTION:ONLINE ONLY\n\n\n\nThis popular practice helps assure a more positive rebirth\, or possibly even attainment of Amitabha Pureland\, at the time of death.  \n\n\n\nThis practice will be led by a senior student.   \n\n\n\n \n\n\n\n\n\n\n\n\nRequest Zoom Info Here\n\n\n\n\n\n\n\n\n\n\n\n\nText Downloads\n\n\n\n\nShort Phowa Text (with Spanish)\n\n\n\n\n\n\n\n\n\n\nWe are only able to offer Dharma programs like this because of your kindness and generosity.Please know that your donation brings great benefit tothe entire Sangha. Thank you! \n\n\n\n\nDonations Appreciated
URL:https://gardrolma.org/programs/buddha-amitabha-practice-great-drikung-phowa-chenmo-practice-the-standing-blade-of-grass-19/2026-04-17/
LOCATION:OH
CATEGORIES:Special
ATTACH;FMTTYPE=image/jpeg:https://gardrolma.org/wp-content/uploads/2016/08/Combined-Amitabha-Chenrezig-and-Vajrapani-Puga-e1481837094894.jpg
END:VEVENT
BEGIN:VEVENT
DTSTART;TZID=America/New_York:20260418T090000
DTEND;TZID=America/New_York:20260418T100000
DTSTAMP:20260419T195328
CREATED:20260414T143852Z
LAST-MODIFIED:20260414T143857Z
UID:10003554-1776502800-1776506400@gardrolma.org
SUMMARY:The 3 Statements that Strike the Vital Point Tsik Sum Né Dek 
DESCRIPTION:Based on the commentary by Patrul RinpocheThe Special Teaching of the Wise and Glorious King*\n\n\n\nwith Khenpo Samdup Rinpoche \n\n\n\n\n\n\n\n\n\n\n\nS‌ATU‌RD‌AY\, April 11th and SUNDAY\, April 12th\n\n\n\n\n\n\n\n\n\n**9:00 am – 10:00 am EDT – Teachings10:00 am EDT – Daily Practice \n\n\n\nKhenpo Samdup Rinpoche will present teachings from Patrul Rinpoche’s text\, which serves as a detailed explanation of the Three Lines teaching originally given by Garab Dorje. Patrul based his commentary on these three lines and elaborated on them to make their meaning more accessible and easier to understand. \n\n\n\n*Khenpo has requested that we commit to listen to every teaching in this Dzogchen series\, approximately 2‌ we‌ek‌en‌ds. Students are encouraged to join online during each teaching session. \n\n\n\n**Mandarin and Spanish translation available. \n\n\n\n\n\n\n\nPlease click below to get Zoom info or to make a donation.\n\n\n\n\nRequest Zoom Info Here\n\n\n\nDonations Appreciated\n\n\n\n\nWe are only able to offer Dharma programs like this because of your kindness and generosity. Please know that your donation brings great benefit to the entire Sangha. Thank you!
URL:https://gardrolma.org/programs/the-3-statements-that-strike-the-vital-point-tsik-sum-ne-dek-7/
LOCATION:Gar Drolma Buddhist Center\, 1329 Creighton Ave.\, Dayton\, OH\, 45420\, United States
CATEGORIES:Special
ATTACH;FMTTYPE=image/webp:https://gardrolma.org/wp-content/uploads/2026/04/KhenpoField_SQUARE.webp
GEO:39.741206;-84.1541782
X-APPLE-STRUCTURED-LOCATION;VALUE=URI;X-ADDRESS=Gar Drolma Buddhist Center 1329 Creighton Ave. Dayton OH 45420 United States;X-APPLE-RADIUS=500;X-TITLE=1329 Creighton Ave.:geo:-84.1541782,39.741206
END:VEVENT
BEGIN:VEVENT
DTSTART;TZID=America/New_York:20260419T090000
DTEND;TZID=America/New_York:20260419T100000
DTSTAMP:20260419T195328
CREATED:20260414T143944Z
LAST-MODIFIED:20260414T143947Z
UID:10003555-1776589200-1776592800@gardrolma.org
SUMMARY:The 3 Statements that Strike the Vital Point Tsik Sum Né Dek 
DESCRIPTION:Based on the commentary by Patrul RinpocheThe Special Teaching of the Wise and Glorious King*\n\n\n\nwith Khenpo Samdup Rinpoche \n\n\n\n\n\n\n\n\n\n\n\nS‌ATU‌RD‌AY\, April 11th and SUNDAY\, April 12th\n\n\n\n\n\n\n\n\n\n**9:00 am – 10:00 am EDT – Teachings10:00 am EDT – Daily Practice \n\n\n\nKhenpo Samdup Rinpoche will present teachings from Patrul Rinpoche’s text\, which serves as a detailed explanation of the Three Lines teaching originally given by Garab Dorje. Patrul based his commentary on these three lines and elaborated on them to make their meaning more accessible and easier to understand. \n\n\n\n*Khenpo has requested that we commit to listen to every teaching in this Dzogchen series\, approximately 2‌ we‌ek‌en‌ds. Students are encouraged to join online during each teaching session. \n\n\n\n**Mandarin and Spanish translation available. \n\n\n\n\n\n\n\nPlease click below to get Zoom info or to make a donation.\n\n\n\n\nRequest Zoom Info Here\n\n\n\nDonations Appreciated\n\n\n\n\nWe are only able to offer Dharma programs like this because of your kindness and generosity. Please know that your donation brings great benefit to the entire Sangha. Thank you!
URL:https://gardrolma.org/programs/the-3-statements-that-strike-the-vital-point-tsik-sum-ne-dek-8/
LOCATION:Gar Drolma Buddhist Center\, 1329 Creighton Ave.\, Dayton\, OH\, 45420\, United States
CATEGORIES:Special
ATTACH;FMTTYPE=image/webp:https://gardrolma.org/wp-content/uploads/2026/04/KhenpoField_SQUARE.webp
GEO:39.741206;-84.1541782
X-APPLE-STRUCTURED-LOCATION;VALUE=URI;X-ADDRESS=Gar Drolma Buddhist Center 1329 Creighton Ave. Dayton OH 45420 United States;X-APPLE-RADIUS=500;X-TITLE=1329 Creighton Ave.:geo:-84.1541782,39.741206
END:VEVENT
BEGIN:VEVENT
DTSTART;TZID=America/New_York:20260529T000000
DTEND;TZID=America/New_York:20260531T235959
DTSTAMP:20260419T195328
CREATED:20260113T160440Z
LAST-MODIFIED:20260113T193938Z
UID:10003508-1780012800-1780271999@gardrolma.org
SUMMARY:Mahakala & Achi Teachings and Practice
DESCRIPTION:Mahakala & Achi Teachings & PracticeMahakala Empowerment ‌Friday M‌ay 2‌9th thru Sunday M‌ay 31‌st\, 2026‌\n\n\n\nMahakala and Achi Chokyi Drolma are both revered as Dharma protectors. While Mahakala embodies fierce compassion and the removal of obstacles\, Achi is celebrated for her swift activities and compassionate protection.  \n\n\n\nTheir practices complement each other\, as both serve to safeguard the spiritual path and support practitioners in overcoming challenges. \n\n\n\n\n\n\n\nPlease click below to get Zoom info or to make a donation.\n\n\n\n\nRequest Zoom Info Here\n\n\n\nDonations Appreciated\n\n\n\n\nWe are only able to offer Dharma programs like this because of your kindness and generosity. Please know that your donation brings great benefit to the entire Sangha. Thank you!
URL:https://gardrolma.org/programs/mahakala-achi-teachcings-and-practice/
LOCATION:OH
CATEGORIES:Special
ATTACH;FMTTYPE=image/jpeg:https://gardrolma.org/wp-content/uploads/2023/08/Mahakala.jpg
END:VEVENT
BEGIN:VEVENT
DTSTART;TZID=America/New_York:20260602T000000
DTEND;TZID=America/New_York:20260607T235959
DTSTAMP:20260419T195328
CREATED:20260113T153507Z
LAST-MODIFIED:20260113T193629Z
UID:10003505-1780358400-1780876799@gardrolma.org
SUMMARY:Vipassana & Dzogchen Retreat
DESCRIPTION:Spontaneous transmissions according to student’s levels \n\n\n\nVipassana and Dzogchen Retreat‌‌‌Tu‌e‌s‌d‌a‌‌y\, June 2nd—S‌‌u‌n‌d‌‌a‌‌y\, J‌un‌e 7th‌ 2026\n\n\n\nJoin us again this year at a unique outdoor location in Loveland\, Ohio as Khenpo Samdup Rinpoche presents in-depth instructions on Vipassana meditation leading us into the profound teachings of Dzogchen. \n\n\n\nTeachings will be held under an open tent and in a simple meditation cabin.  Retreat is in-person only.Limited primitive camping sites and outdoor facilities will be available – students should please bring their own camping equipment if possible.  Meals will be provided.  \n\n\n\nFinancial assistance is available to those in need.   Please contact us here. \n\n\n\nRegister Here\n\n\n\n\nIf the form below is not working\, please click here.\n\n\n\n\n\n\n\n\n\n\n\n\n\n\n\n\n\n\n\n\n\n\n\n\n\n\n\n\n\nDonations Appreciated\n\n\n\n\nWe are only able to offer Dharma programs like this because of your kindness and generosity.Please know that your donation brings great benefit to the entire Sangha. Thank you!
URL:https://gardrolma.org/programs/vipassana-dzogchen-retreat/
LOCATION:OH
CATEGORIES:Special
ATTACH;FMTTYPE=image/webp:https://gardrolma.org/wp-content/uploads/2025/02/Vipassana-2024-3.webp
END:VEVENT
END:VCALENDAR