BEGIN:VCALENDAR
VERSION:2.0
PRODID:-//Gar Drolma Buddhist Learning and Meditation Center - ECPv6.15.20//NONSGML v1.0//EN
CALSCALE:GREGORIAN
METHOD:PUBLISH
X-ORIGINAL-URL:https://gardrolma.org
X-WR-CALDESC:Events for Gar Drolma Buddhist Learning and Meditation Center
REFRESH-INTERVAL;VALUE=DURATION:PT1H
X-Robots-Tag:noindex
X-PUBLISHED-TTL:PT1H
BEGIN:VTIMEZONE
TZID:America/New_York
BEGIN:DAYLIGHT
TZOFFSETFROM:-0500
TZOFFSETTO:-0400
TZNAME:EDT
DTSTART:20240310T070000
END:DAYLIGHT
BEGIN:STANDARD
TZOFFSETFROM:-0400
TZOFFSETTO:-0500
TZNAME:EST
DTSTART:20241103T060000
END:STANDARD
BEGIN:DAYLIGHT
TZOFFSETFROM:-0500
TZOFFSETTO:-0400
TZNAME:EDT
DTSTART:20250309T070000
END:DAYLIGHT
BEGIN:STANDARD
TZOFFSETFROM:-0400
TZOFFSETTO:-0500
TZNAME:EST
DTSTART:20251102T060000
END:STANDARD
BEGIN:DAYLIGHT
TZOFFSETFROM:-0500
TZOFFSETTO:-0400
TZNAME:EDT
DTSTART:20260308T070000
END:DAYLIGHT
BEGIN:STANDARD
TZOFFSETFROM:-0400
TZOFFSETTO:-0500
TZNAME:EST
DTSTART:20261101T060000
END:STANDARD
END:VTIMEZONE
BEGIN:VEVENT
DTSTART;TZID=America/New_York:20251205T190000
DTEND;TZID=America/New_York:20251205T210000
DTSTAMP:20260419T161952
CREATED:20251124T145014Z
LAST-MODIFIED:20251124T145252Z
UID:10003434-1764961200-1764968400@gardrolma.org
SUMMARY:8th Annual Guru Rinpoche Bhum Tsok
DESCRIPTION:Led by Khenpo Samdup Rinpoche with Monastics of Various Traditions\n\n\n\n\n\n\n\n \n\n\n\nFRIDAY December 5th7pm – 9pm EDT: Guru Rinpoche Empowerment\n\n\n\nSATURDAY and SUNDAY December 6 & 79am – 12pm EDT and 2pm – 5pm EDT:Guru Rinpoche Bhum Tsok and Practice\n\n\n\n \n\n\n\n– Offering of 100\,000 recitations to invoke the blessings of Guru Rinpoche Padmasambhava.  \n\n\n\n– Great benefits of vast merit\, wisdom\, and bodhicitta realization to remove obstacles.   \n\n\n\n– Dedicated to the long-life of H.H. Dalai Lama and all other Holy Masters\, as well as all loved ones and beings\, and for the benefit of World Peace.  \n\n\n\nOrganized by Capital Area Tibetan Association & Drikung Dharma Surya Center \n\n\n\nPlease visit the DDSC Upcoming Events webpage and click ZOOM Info for log-in data and more information.\n\n\n\n\n Visit DDSC Upcoming Events Page
URL:https://gardrolma.org/programs/8th-annual-guru-rinpoche-bhum-tsok/
LOCATION:Gar Drolma Buddhist Center\, 1329 Creighton Ave.\, Dayton\, OH\, 45420\, United States
CATEGORIES:Special
ATTACH;FMTTYPE=image/webp:https://gardrolma.org/wp-content/uploads/2025/11/Bhum-Tsok-2025-Featured.webp
GEO:39.741206;-84.1541782
X-APPLE-STRUCTURED-LOCATION;VALUE=URI;X-ADDRESS=Gar Drolma Buddhist Center 1329 Creighton Ave. Dayton OH 45420 United States;X-APPLE-RADIUS=500;X-TITLE=1329 Creighton Ave.:geo:-84.1541782,39.741206
END:VEVENT
BEGIN:VEVENT
DTSTART;TZID=America/New_York:20251206T090000
DTEND;TZID=America/New_York:20251206T170000
DTSTAMP:20260419T161952
CREATED:20251206T151636Z
LAST-MODIFIED:20251218T203448Z
UID:10003435-1765011600-1765040400@gardrolma.org
SUMMARY:8th Annual Guru Rinpoche Bhum Tsok
DESCRIPTION:Led by Khenpo Samdup Rinpoche with Monastics of Various Traditions\n\n\n\n\n\n\n\n \n\n\n\nFRIDAY December 5th7pm – 9pm EDT: Guru Rinpoche Empowerment\n\n\n\nSATURDAY and SUNDAY December 6 & 79am – 12pm EDT and 2pm – 5pm EDT:Guru Rinpoche Bhum Tsok and Practice\n\n\n\n \n\n\n\n– Offering of 100\,000 recitations to invoke the blessings of Guru Rinpoche Padmasambhava.  \n\n\n\n– Great benefits of vast merit\, wisdom\, and bodhicitta realization to remove obstacles.   \n\n\n\n– Dedicated to the long-life of H.H. Dalai Lama and all other Holy Masters\, as well as all loved ones and beings\, and for the benefit of World Peace.  \n\n\n\n\n\n\n\nVideo Library\n\n\n« Prev1 / 1Next »8th Annual Guru Rinpoche Bhum Tsok with Khenpo Samdup Rinpoche & Monastics Sun\, Dec 7\, 2025 AM8th Annual Guru Rinpoche Bhum Tsok with Khenpo Samdup Rinpoche & Monastics Sat\, Dec 6\, 2025 AM« Prev1 / 1Next »\n\n\n\nReturn to All Video Teachings
URL:https://gardrolma.org/programs/8th-annual-guru-rinpoche-bhum-tsok-2/
LOCATION:Gar Drolma Buddhist Center\, 1329 Creighton Ave.\, Dayton\, OH\, 45420\, United States
CATEGORIES:Special,Video 2025
ATTACH;FMTTYPE=image/webp:https://gardrolma.org/wp-content/uploads/2025/11/Bhum-Tsok-2025-Featured.webp
GEO:39.741206;-84.1541782
X-APPLE-STRUCTURED-LOCATION;VALUE=URI;X-ADDRESS=Gar Drolma Buddhist Center 1329 Creighton Ave. Dayton OH 45420 United States;X-APPLE-RADIUS=500;X-TITLE=1329 Creighton Ave.:geo:-84.1541782,39.741206
END:VEVENT
BEGIN:VEVENT
DTSTART;TZID=America/New_York:20251207T090000
DTEND;TZID=America/New_York:20251207T170000
DTSTAMP:20260419T161953
CREATED:20251124T151706Z
LAST-MODIFIED:20251124T151709Z
UID:10003436-1765098000-1765126800@gardrolma.org
SUMMARY:8th Annual Guru Rinpoche Bhum Tsok
DESCRIPTION:Led by Khenpo Samdup Rinpoche with Monastics of Various Traditions\n\n\n\n\n\n\n\n \n\n\n\nFRIDAY December 5th7pm – 9pm EDT: Guru Rinpoche Empowerment\n\n\n\nSATURDAY and SUNDAY December 6 & 79am – 12pm EDT and 2pm – 5pm EDT:Guru Rinpoche Bhum Tsok and Practice\n\n\n\n \n\n\n\n– Offering of 100\,000 recitations to invoke the blessings of Guru Rinpoche Padmasambhava.  \n\n\n\n– Great benefits of vast merit\, wisdom\, and bodhicitta realization to remove obstacles.   \n\n\n\n– Dedicated to the long-life of H.H. Dalai Lama and all other Holy Masters\, as well as all loved ones and beings\, and for the benefit of World Peace.  \n\n\n\nOrganized by Capital Area Tibetan Association & Drikung Dharma Surya Center \n\n\n\nPlease visit the DDSC Upcoming Events webpage and click ZOOM Info for log-in data and more information.\n\n\n\n\n Visit DDSC Upcoming Events Page
URL:https://gardrolma.org/programs/8th-annual-guru-rinpoche-bhum-tsok-3/
LOCATION:Gar Drolma Buddhist Center\, 1329 Creighton Ave.\, Dayton\, OH\, 45420\, United States
CATEGORIES:Special
ATTACH;FMTTYPE=image/webp:https://gardrolma.org/wp-content/uploads/2025/11/Bhum-Tsok-2025-Featured.webp
GEO:39.741206;-84.1541782
X-APPLE-STRUCTURED-LOCATION;VALUE=URI;X-ADDRESS=Gar Drolma Buddhist Center 1329 Creighton Ave. Dayton OH 45420 United States;X-APPLE-RADIUS=500;X-TITLE=1329 Creighton Ave.:geo:-84.1541782,39.741206
END:VEVENT
BEGIN:VEVENT
DTSTART;TZID=America/New_York:20251213T090000
DTEND;TZID=America/New_York:20251213T120000
DTSTAMP:20260419T161953
CREATED:20251213T233042Z
LAST-MODIFIED:20251218T203832Z
UID:10003441-1765616400-1765627200@gardrolma.org
SUMMARY:Vajra Speech of the Essence of the Ultimate
DESCRIPTION:With Khenpo Samdup Rinpoche \n\n\n\n\n\n\n\nSATURDAY and SUNDAY December 13 & 14*9am – 11am EDT: Vajra Speech Teachings11am – 12pm EDT: Daily Practice\n\n\n\n \n\n\n\nThis brief text holds the entire essence of the Mahayana and includes many beautiful instructions for taking thoughts\, emotions\, and obstacles on the path. All are welcome to join\, whether one is new to teachings or is an advanced practitioner.  \n\n\n\n*Mandarin translation available \n\n\n\n\n\n\n\nWe are only able to offer Dharma programs like this because of your kindness and generosity. Please know that your donation brings great benefit to the entire Sangha. Thank you! \n\n\n\n\nDonations Appreciated\n\n\n\n\n\n\n\n\nVideo Library\n\n\n« Prev1 / 1Next »Vajra Speech teachings with Khenpo Samdup Rinpoche Sun\, Dec 14\, 2025 (Part 2)Vajra Speech teachings with Khenpo Samdup Rinpoche Sat\, Dec 13\, 2025 (Part 1)« Prev1 / 1Next »\n\n\n\nReturn to All Video Teachings
URL:https://gardrolma.org/programs/vajra-speech-of-the-essence-of-the-ultimate-2/
LOCATION:Gar Drolma Buddhist Center\, 1329 Creighton Ave.\, Dayton\, OH\, 45420\, United States
CATEGORIES:Special,Video 2025
ATTACH;FMTTYPE=image/webp:https://gardrolma.org/wp-content/uploads/2025/12/Vajra-Speech.webp
GEO:39.741206;-84.1541782
X-APPLE-STRUCTURED-LOCATION;VALUE=URI;X-ADDRESS=Gar Drolma Buddhist Center 1329 Creighton Ave. Dayton OH 45420 United States;X-APPLE-RADIUS=500;X-TITLE=1329 Creighton Ave.:geo:-84.1541782,39.741206
END:VEVENT
BEGIN:VEVENT
DTSTART;TZID=America/New_York:20251214T090000
DTEND;TZID=America/New_York:20251214T120000
DTSTAMP:20260419T161953
CREATED:20251210T232032Z
LAST-MODIFIED:20260413T135417Z
UID:10003442-1765702800-1765713600@gardrolma.org
SUMMARY:Vajra Speech of the Essence of the Ultimate
DESCRIPTION:With Khenpo Samdup Rinpoche \n\n\n\n\n\n\n\nSATURDAY and SUNDAY December 13 & 14*9am – 11am EDT: Vajra Speech Teachings11am – 12pm EDT: Daily Practice\n\n\n\n \n\n\n\nThis brief text holds the entire essence of the Mahayana and includes many beautiful instructions for taking thoughts\, emotions\, and obstacles on the path. All are welcome to join\, whether one is new to teachings or is an advanced practitioner.  \n\n\n\n*Mandarin translation available \n\n\n\n\n\n\n\n\n\n\n\n\n\nWe are only able to offer Dharma programs like this because of your kindness and generosity. Please know that your donation brings great benefit to the entire Sangha. Thank you! \n\n\n\n\nDonations Appreciated
URL:https://gardrolma.org/programs/vajra-speech-of-the-essence-of-the-ultimate/
LOCATION:Gar Drolma Buddhist Center\, 1329 Creighton Ave.\, Dayton\, OH\, 45420\, United States
CATEGORIES:Special
ATTACH;FMTTYPE=image/webp:https://gardrolma.org/wp-content/uploads/2025/12/Vajra-Speech.webp
GEO:39.741206;-84.1541782
X-APPLE-STRUCTURED-LOCATION;VALUE=URI;X-ADDRESS=Gar Drolma Buddhist Center 1329 Creighton Ave. Dayton OH 45420 United States;X-APPLE-RADIUS=500;X-TITLE=1329 Creighton Ave.:geo:-84.1541782,39.741206
END:VEVENT
BEGIN:VEVENT
DTSTART;TZID=America/New_York:20251219T123000
DTEND;TZID=America/New_York:20251219T133000
DTSTAMP:20260419T161953
CREATED:20250210T181842Z
LAST-MODIFIED:20260414T222033Z
UID:10003443-1766147400-1766151000@gardrolma.org
SUMMARY:Buddha Amitabha Practice & Great Drikung Phowa Chenmo Practice\, “The Standing Blade of Grass” 
DESCRIPTION:ONLINE ONLY\n\n\n\nThis popular practice helps assure a more positive rebirth\, or possibly even attainment of Amitabha Pureland\, at the time of death.  \n\n\n\nThis practice will be led by a senior student.   \n\n\n\n \n\n\n\n\n\n\n\n\nRequest Zoom Info Here\n\n\n\n\n\n\n\n\n\n\n\n\nText Downloads\n\n\n\n\nShort Phowa Text (with Spanish)\n\n\n\n\n\n\n\n\n\n\nWe are only able to offer Dharma programs like this because of your kindness and generosity.Please know that your donation brings great benefit tothe entire Sangha. Thank you! \n\n\n\n\nDonations Appreciated
URL:https://gardrolma.org/programs/buddha-amitabha-practice-great-drikung-phowa-chenmo-practice-the-standing-blade-of-grass-19/2025-12-19/
LOCATION:OH
CATEGORIES:Special
ATTACH;FMTTYPE=image/jpeg:https://gardrolma.org/wp-content/uploads/2016/08/Combined-Amitabha-Chenrezig-and-Vajrapani-Puga-e1481837094894.jpg
END:VEVENT
BEGIN:VEVENT
DTSTART;TZID=America/New_York:20251219T190000
DTEND;TZID=America/New_York:20251219T210000
DTSTAMP:20260419T161953
CREATED:20251219T152622Z
LAST-MODIFIED:20251222T174327Z
UID:10003416-1766170800-1766178000@gardrolma.org
SUMMARY:The Sole Kilaya of the Sacred Bond of the Heart & Ganges Mahamudra Commentary
DESCRIPTION:Two ‌We‌ek‌en‌d Retreats wih Khenpo Samdup Rinpoche\n\n\n\n \n\n\n\n\n\n\n\n\n\n\n\nFIRST WEEKEND\n\n\n\n‌Fri‌da‌y D‌ece‌mb‌er 19‌th *7:‌00pm-9:‌00‌pm EST‌Vajrakilaya Empowerment‌\n\n\n\nSa‌tu‌rd‌ay D‌ec‌em‌be‌r 20‌th *9:‌00‌am-12‌:00‌pm E‌ST & 2:‌00-4‌‌:00‌pm ES‌T‌‌Sole Kilaya Practice & Teachings/Ganges Mahamudra commentary& Daily Practice \n\n\n\nS‌und‌ay De‌cem‌be‌r 21s‌t *9‌:00am-12‌:00pm EST‌Sole Kilaya Practice & Teachings/Ganges Mahamudra commentary& Daily Practice\n\n\n\n*Mandarin translation available. \n\n\n\nWe are delighted to announce Khenpo will return to Gar Drolma this D‌ec‌em‌be‌r focusing on the profound practice of The Sole Kilaya Sacred Bond of the Heart revealed by HH Khenpo Jigme Phuntsok\, Kilaya empowerment\, and with teachings on the Ganges Mahamudra. \n\n\n\nThis retreat will be held over two weekends\, offering participants a unique opportunity to deepen their practice\, receive authentic instruction\, and connect with community. \n\n\n\nWhether you are a seasoned practitioner or new to these teachings\, you are warmly invited to join us for these profound teachings and practice. \n\n\n\n\n\n\n\n\n\nWe are only able to offer Dharma programs like this because of your kindness and generosity. Please know that your donation brings great benefit to the entire Sangha. Thank you! \n\n\n\n\n\nDonations are Appreciated\n\n\n\n\n\n\n\n\n\n\n\n\n\nVideo Library\n\n\n\n\n« Prev1 / 1Next »Sole Kilaya & Ganges Mahamudra teachings with Khenpo Samdup Rinpoche Sat\, Dec 27\, 2025 PM (Part 5)Sole Kilaya & Ganges Mahamudra teachings with Khenpo Samdup Rinpoche Sat\, Dec 27\, 2025 AM (Part 4)Vajra Speech teachings with Khenpo Samdup Rinpoche Sun\, Dec 14\, 2025 (Part 3)Sole Kilaya & Ganges Mahamudra teachings with Khenpo Samdup Rinpoche Sat\, Dec 20\, 2025 PM (Part 2)Sole Kilaya & Ganges Mahamudra teachings with Khenpo Samdup Rinpoche Sat\, Dec 20\, 2025 AM (Part 1)« Prev1 / 1Next »\n\n\n\n\n\n\n\nReturn to Video Library Page
URL:https://gardrolma.org/programs/the-sole-kilaya-of-the-sacred-bond-of-the-heart-ganges-mahamudra-commentary/
LOCATION:Gar Drolma Buddhist Center\, 1329 Creighton Ave.\, Dayton\, OH\, 45420\, United States
CATEGORIES:Special,Video 2025
ATTACH;FMTTYPE=image/webp:https://gardrolma.org/wp-content/uploads/2025/10/Kilaya.webp
GEO:39.741206;-84.1541782
X-APPLE-STRUCTURED-LOCATION;VALUE=URI;X-ADDRESS=Gar Drolma Buddhist Center 1329 Creighton Ave. Dayton OH 45420 United States;X-APPLE-RADIUS=500;X-TITLE=1329 Creighton Ave.:geo:-84.1541782,39.741206
END:VEVENT
BEGIN:VEVENT
DTSTART;TZID=America/New_York:20251220T090000
DTEND;TZID=America/New_York:20251220T160000
DTSTAMP:20260419T161953
CREATED:20251013T142904Z
LAST-MODIFIED:20251216T202621Z
UID:10003417-1766221200-1766246400@gardrolma.org
SUMMARY:The Sole Kilaya of the Sacred Bond of the Heart & Ganges Mahamudra Commentary
DESCRIPTION:Two ‌We‌ek‌en‌d Retreats wih Khenpo Samdup Rinpoche\n\n\n\n \n\n\n\n\n\n\n\n\n\n\n\nFIRST WEEKEND\n\n\n\n‌Fri‌da‌y D‌ece‌mb‌er 19‌th *7:‌00pm-9:‌00‌pm EST‌Vajrakilaya Empowerment‌\n\n\n\nSa‌tu‌rd‌ay D‌ec‌em‌be‌r 20‌th *9:‌00‌am-12‌:00‌pm E‌ST & 2:‌00-4‌‌:00‌pm ES‌T‌‌ (Lunch will be served for those attending in person.)Sole Kilaya Practice & Teachings/Ganges Mahamudra commentary& Daily Practice \n\n\n\nS‌und‌ay De‌cem‌be‌r 21s‌t *9‌:00am-12‌:00pm EST‌Sole Kilaya Practice & Teachings/Ganges Mahamudra commentary& Daily Practice \n\n\n\n*Mandarin translation available. \n\n\n\nWe are delighted to announce Khenpo will return to Gar Drolma this D‌ec‌em‌be‌r focusing on the profound practice of The Sole Kilaya Sacred Bond of the Heart revealed by HH Khenpo Jigme Phuntsok\, Kilaya empowerment\, and with teachings on the Ganges Mahamudra. \n\n\n\nThis retreat will be held over two weekends\, offering participants a unique opportunity to deepen their practice\, receive authentic instruction\, and connect with community. \n\n\n\nWhether you are a seasoned practitioner or new to these teachings\, you are warmly invited to join us for these profound teachings and practice. \n\n\n\n \n\n\n\n\n\n\n\nPlease click below to get Zoom info or to make a donation.\n\n\n\n\nRequest Zoom Info Here\n\n\n\nDonations Appreciated\n\n\n\n\nWe are only able to offer Dharma programs like this because of your kindness and generosity. Please know that your donation brings great benefit to the entire Sangha. Thank you!
URL:https://gardrolma.org/programs/the-sole-kilaya-of-the-sacred-bond-of-the-heart-ganges-mahamudra-commentary-2/
LOCATION:Gar Drolma Buddhist Center\, 1329 Creighton Ave.\, Dayton\, OH\, 45420\, United States
CATEGORIES:Special
ATTACH;FMTTYPE=image/webp:https://gardrolma.org/wp-content/uploads/2025/10/Kilaya.webp
GEO:39.741206;-84.1541782
X-APPLE-STRUCTURED-LOCATION;VALUE=URI;X-ADDRESS=Gar Drolma Buddhist Center 1329 Creighton Ave. Dayton OH 45420 United States;X-APPLE-RADIUS=500;X-TITLE=1329 Creighton Ave.:geo:-84.1541782,39.741206
END:VEVENT
BEGIN:VEVENT
DTSTART;TZID=America/New_York:20251221T090000
DTEND;TZID=America/New_York:20251221T120000
DTSTAMP:20260419T161953
CREATED:20251013T143007Z
LAST-MODIFIED:20251013T183700Z
UID:10003418-1766307600-1766318400@gardrolma.org
SUMMARY:The Sole Kilaya of the Sacred Bond of the Heart & Ganges Mahamudra Commentary
DESCRIPTION:Two ‌We‌ek‌en‌d Retreats wih Khenpo Samdup Rinpoche\n\n\n\n \n\n\n\n\n\n\n\n\n\n\n\nFIRST WEEKEND\n\n\n\n‌Fri‌da‌y D‌ece‌mb‌er 19‌th *7:‌00pm-9:‌00‌pm EST‌Vajrakilaya Empowerment‌\n\n\n\nSa‌tu‌rd‌ay D‌ec‌em‌be‌r 20‌th *9:‌00‌am-12‌:00‌pm E‌ST & 2:‌00-4‌‌:00‌pm ES‌T‌‌Sole Kilaya Practice & Teachings/Ganges Mahamudra commentary& Daily Practice \n\n\n\nS‌und‌ay De‌cem‌be‌r 21s‌t *9‌:00am-12‌:00pm EST‌Sole Kilaya Practice & Teachings/Ganges Mahamudra commentary& Daily Practice \n\n\n\n*Mandarin translation available. \n\n\n\nWe are delighted to announce Khenpo will return to Gar Drolma this D‌ec‌em‌be‌r focusing on the profound practice of The Sole Kilaya Sacred Bond of the Heart revealed by HH Khenpo Jigme Phuntsok\, Kilaya empowerment\, and with teachings on the Ganges Mahamudra. \n\n\n\nThis retreat will be held over two weekends\, offering participants a unique opportunity to deepen their practice\, receive authentic instruction\, and connect with community. \n\n\n\nWhether you are a seasoned practitioner or new to these teachings\, you are warmly invited to join us for these profound teachings and practice. \n\n\n\n \n\n\n\n\n\n\n\nPlease click below to get Zoom info or to make a donation.\n\n\n\n\nRequest Zoom Info Here\n\n\n\nDonations Appreciated\n\n\n\n\nWe are only able to offer Dharma programs like this because of your kindness and generosity. Please know that your donation brings great benefit to the entire Sangha. Thank you!
URL:https://gardrolma.org/programs/the-sole-kilaya-of-the-sacred-bond-of-the-heart-ganges-mahamudra-commentary-3/
LOCATION:Gar Drolma Buddhist Center\, 1329 Creighton Ave.\, Dayton\, OH\, 45420\, United States
CATEGORIES:Special
ATTACH;FMTTYPE=image/webp:https://gardrolma.org/wp-content/uploads/2025/10/Kilaya.webp
GEO:39.741206;-84.1541782
X-APPLE-STRUCTURED-LOCATION;VALUE=URI;X-ADDRESS=Gar Drolma Buddhist Center 1329 Creighton Ave. Dayton OH 45420 United States;X-APPLE-RADIUS=500;X-TITLE=1329 Creighton Ave.:geo:-84.1541782,39.741206
END:VEVENT
BEGIN:VEVENT
DTSTART;TZID=America/New_York:20251222T193000
DTEND;TZID=America/New_York:20251222T203000
DTSTAMP:20260419T161953
CREATED:20250120T163716Z
LAST-MODIFIED:20260302T154100Z
UID:10003495-1766431800-1766435400@gardrolma.org
SUMMARY:White Sur Offering called Pervading All Purelands (Online Only)
DESCRIPTION:~The time of death can be an opportunity for the realization of great wisdom or taking a happier rebirth ~ \n\n\n\n• Join us for a White Sur offering lead by senior student and Sangha. • The White Sur consists of a smoke offering of flour\, sweets\, dairy products or a special blend of offering substances. This practice can be dedicated for the benefit of people or animals who have died to help them purify karma and take a better rebirth. \n\n\n\n\nRequest Zoom Info Here\n\n\n\n\n\n\n\n\nClick here to see our complete Virtual Dharma weekly schedule. \n\n\n\n\n\n\n\nText Downloads\n\n\n\n\nWhite Sur Text
URL:https://gardrolma.org/programs/white-sur-offering-called-pervading-all-purelands-online-only-8/2025-12-22/
LOCATION:OH
CATEGORIES:Special
ATTACH;FMTTYPE=image/jpeg:https://gardrolma.org/wp-content/uploads/2021/09/White_Sur_Offering_Program.jpg
END:VEVENT
BEGIN:VEVENT
DTSTART;TZID=America/New_York:20251227T090000
DTEND;TZID=America/New_York:20251227T160000
DTSTAMP:20260419T161953
CREATED:20251013T143241Z
LAST-MODIFIED:20251222T173830Z
UID:10003419-1766826000-1766851200@gardrolma.org
SUMMARY:The Sole Kilaya of the Sacred Bond of the Heart & Ganges Mahamudra Commentary
DESCRIPTION:Two ‌We‌ek‌en‌d Retreats wih Khenpo Samdup Rinpoche\n\n\n\n \n\n\n\n\n\n\n\n\n\n\n\nSECOND WEEKEND\n\n\n\nSa‌tu‌rd‌ay D‌ec‌em‌be‌r 27‌th *9:‌00‌am-12‌:00‌pm E‌ST & 2:‌00-4‌‌:00‌pm ES‌T‌‌Sole Kilaya Practice & Teachings/Ganges Mahamudra commentary& Daily Practice \n\n\n\nS‌und‌ay De‌cem‌be‌r 28‌th *9‌:00am-12‌:00pm EST‌Sole Kilaya Practice & Teachings/Ganges Mahamudra commentary& Daily Practice \n\n\n\n*Mandarin translation available.Lunch will be served on Saturday for those attending in person. \n\n\n\nWe are delighted to announce Khenpo will return to Gar Drolma this D‌ec‌em‌be‌r focusing on the profound practice of The Sole Kilaya Sacred Bond of the Heart revealed by HH Khenpo Jigme Phuntsok\, Kilaya empowerment\, and with teachings on the Ganges Mahamudra. \n\n\n\nThis retreat will be held over two weekends\, offering participants a unique opportunity to deepen their practice\, receive authentic instruction\, and connect with community. \n\n\n\nWhether you are a seasoned practitioner or new to these teachings\, you are warmly invited to join us for these profound teachings and practice. \n\n\n\n \n\n\n\n\n\n\n\nPlease click below to get Zoom info or to make a donation.\n\n\n\n\nRequest Zoom Info Here\n\n\n\nDonations Appreciated\n\n\n\n\nWe are only able to offer Dharma programs like this because of your kindness and generosity. Please know that your donation brings great benefit to the entire Sangha. Thank you!
URL:https://gardrolma.org/programs/the-sole-kilaya-of-the-sacred-bond-of-the-heart-ganges-mahamudra-commentary-4/
LOCATION:Gar Drolma Buddhist Center\, 1329 Creighton Ave.\, Dayton\, OH\, 45420\, United States
CATEGORIES:Special
ATTACH;FMTTYPE=image/webp:https://gardrolma.org/wp-content/uploads/2025/10/Kilaya.webp
GEO:39.741206;-84.1541782
X-APPLE-STRUCTURED-LOCATION;VALUE=URI;X-ADDRESS=Gar Drolma Buddhist Center 1329 Creighton Ave. Dayton OH 45420 United States;X-APPLE-RADIUS=500;X-TITLE=1329 Creighton Ave.:geo:-84.1541782,39.741206
END:VEVENT
BEGIN:VEVENT
DTSTART;TZID=America/New_York:20251228T090000
DTEND;TZID=America/New_York:20251228T120000
DTSTAMP:20260419T161953
CREATED:20251013T143329Z
LAST-MODIFIED:20251013T183824Z
UID:10003420-1766912400-1766923200@gardrolma.org
SUMMARY:The Sole Kilaya of the Sacred Bond of the Heart & Ganges Mahamudra Commentary
DESCRIPTION:Two ‌We‌ek‌en‌d Retreats wih Khenpo Samdup Rinpoche\n\n\n\n \n\n\n\n\n\n\n\n\n\n\n\nSECOND WEEKEND\n\n\n\nSa‌tu‌rd‌ay D‌ec‌em‌be‌r 27‌th *9:‌00‌am-12‌:00‌pm E‌ST & 2:‌00-4‌‌:00‌pm ES‌T‌‌Sole Kilaya Practice & Teachings/Ganges Mahamudra commentary& Daily Practice \n\n\n\nS‌und‌ay De‌cem‌be‌r 28‌th *9‌:00am-12‌:00pm EST‌Sole Kilaya Practice & Teachings/Ganges Mahamudra commentary& Daily Practice \n\n\n\n*Mandarin translation available. \n\n\n\nWe are delighted to announce Khenpo will return to Gar Drolma this D‌ec‌em‌be‌r focusing on the profound practice of The Sole Kilaya Sacred Bond of the Heart revealed by HH Khenpo Jigme Phuntsok\, Kilaya empowerment\, and with teachings on the Ganges Mahamudra. \n\n\n\nThis retreat will be held over two weekends\, offering participants a unique opportunity to deepen their practice\, receive authentic instruction\, and connect with community. \n\n\n\nWhether you are a seasoned practitioner or new to these teachings\, you are warmly invited to join us for these profound teachings and practice. \n\n\n\n \n\n\n\n\n\n\n\nPlease click below to get Zoom info or to make a donation.\n\n\n\n\nRequest Zoom Info Here\n\n\n\nDonations Appreciated\n\n\n\n\nWe are only able to offer Dharma programs like this because of your kindness and generosity. Please know that your donation brings great benefit to the entire Sangha. Thank you!
URL:https://gardrolma.org/programs/the-sole-kilaya-of-the-sacred-bond-of-the-heart-ganges-mahamudra-commentary-5/
LOCATION:Gar Drolma Buddhist Center\, 1329 Creighton Ave.\, Dayton\, OH\, 45420\, United States
CATEGORIES:Special
ATTACH;FMTTYPE=image/webp:https://gardrolma.org/wp-content/uploads/2025/10/Kilaya.webp
GEO:39.741206;-84.1541782
X-APPLE-STRUCTURED-LOCATION;VALUE=URI;X-ADDRESS=Gar Drolma Buddhist Center 1329 Creighton Ave. Dayton OH 45420 United States;X-APPLE-RADIUS=500;X-TITLE=1329 Creighton Ave.:geo:-84.1541782,39.741206
END:VEVENT
BEGIN:VEVENT
DTSTART;TZID=America/New_York:20251229T193000
DTEND;TZID=America/New_York:20251229T203000
DTSTAMP:20260419T161953
CREATED:20250120T163716Z
LAST-MODIFIED:20260302T154100Z
UID:10003537-1767036600-1767040200@gardrolma.org
SUMMARY:White Sur Offering called Pervading All Purelands (Online Only)
DESCRIPTION:~The time of death can be an opportunity for the realization of great wisdom or taking a happier rebirth ~ \n\n\n\n• Join us for a White Sur offering lead by senior student and Sangha. • The White Sur consists of a smoke offering of flour\, sweets\, dairy products or a special blend of offering substances. This practice can be dedicated for the benefit of people or animals who have died to help them purify karma and take a better rebirth. \n\n\n\n\nRequest Zoom Info Here\n\n\n\n\n\n\n\n\nClick here to see our complete Virtual Dharma weekly schedule. \n\n\n\n\n\n\n\nText Downloads\n\n\n\n\nWhite Sur Text
URL:https://gardrolma.org/programs/white-sur-offering-called-pervading-all-purelands-online-only-8/2025-12-29/
LOCATION:OH
CATEGORIES:Special
ATTACH;FMTTYPE=image/jpeg:https://gardrolma.org/wp-content/uploads/2021/09/White_Sur_Offering_Program.jpg
END:VEVENT
END:VCALENDAR