BEGIN:VCALENDAR
VERSION:2.0
PRODID:-//Gar Drolma Buddhist Learning and Meditation Center - ECPv6.15.20//NONSGML v1.0//EN
CALSCALE:GREGORIAN
METHOD:PUBLISH
X-WR-CALNAME:Gar Drolma Buddhist Learning and Meditation Center
X-ORIGINAL-URL:https://gardrolma.org
X-WR-CALDESC:Events for Gar Drolma Buddhist Learning and Meditation Center
REFRESH-INTERVAL;VALUE=DURATION:PT1H
X-Robots-Tag:noindex
X-PUBLISHED-TTL:PT1H
BEGIN:VTIMEZONE
TZID:America/New_York
BEGIN:DAYLIGHT
TZOFFSETFROM:-0500
TZOFFSETTO:-0400
TZNAME:EDT
DTSTART:20240310T070000
END:DAYLIGHT
BEGIN:STANDARD
TZOFFSETFROM:-0400
TZOFFSETTO:-0500
TZNAME:EST
DTSTART:20241103T060000
END:STANDARD
BEGIN:DAYLIGHT
TZOFFSETFROM:-0500
TZOFFSETTO:-0400
TZNAME:EDT
DTSTART:20250309T070000
END:DAYLIGHT
BEGIN:STANDARD
TZOFFSETFROM:-0400
TZOFFSETTO:-0500
TZNAME:EST
DTSTART:20251102T060000
END:STANDARD
BEGIN:DAYLIGHT
TZOFFSETFROM:-0500
TZOFFSETTO:-0400
TZNAME:EDT
DTSTART:20260308T070000
END:DAYLIGHT
BEGIN:STANDARD
TZOFFSETFROM:-0400
TZOFFSETTO:-0500
TZNAME:EST
DTSTART:20261101T060000
END:STANDARD
END:VTIMEZONE
BEGIN:VEVENT
DTSTART;TZID=America/New_York:20251004T100000
DTEND;TZID=America/New_York:20251004T160000
DTSTAMP:20260419T195212
CREATED:20251003T134409Z
LAST-MODIFIED:20251003T134412Z
UID:10003406-1759572000-1759593600@gardrolma.org
SUMMARY:Perfect Your Wisdom with Manjushri
DESCRIPTION:The Buddhis of Wisdomled by Khenpo Samdup Rinpoche\n\n\n\n \n\n\n\n\n\n\n\n\n\n\n\nSATURDAY October 4th*10:00am – 12:00‌pm E‌DT‌ Manjushri Empowerment 2:00 – 4:00pm EDT Manjushri Teachings & Practice \n\n\n\nSUNDAY October 5th‌*10:00am – 12:00‌pm E‌DT‌ & 2:00 – 4:00pm EDT Manjusrhi Teachings & Practice \n\n\n\n*Mandarin translation available \n\n\n\nJoin Khenpo at our sister center Drikung Dharma Surya in Fairfax\, Virginia for the profound teachings and practice of Manjushri.  \n\n\n\nThe practice of Manjushri enables the individual to cultivate and increase wisdom by facilitating the sharpening of intelligence and the ability to engage in critical analysis. It also enhances the development  of bodhicitta that leads to the state of omniscience. \n\n\n\nWe invite you to participate in our online sessions at Gar Drolma\, including morning sessions and afternoon sessions available online only with the international sangha.  \n\n\n\n\n\n\n\nPlease click below to get Zoom info or to make a donation.\n\n\n\n\nRequest Zoom Info Here\n\n\n\nDonations Appreciated\n\n\n\n\nWe are only able to offer Dharma programs like this because of your kindness and generosity. Please know that your donation brings great benefit to the entire Sangha. Thank you! \n\n\n\nText Download\n\n\n\n\nDownload Deity Yoga Sadhana
URL:https://gardrolma.org/programs/perfect-your-wisdom-with-manjushri/
LOCATION:Gar Drolma Buddhist Center\, 1329 Creighton Ave.\, Dayton\, OH\, 45420\, United States
CATEGORIES:Special
ATTACH;FMTTYPE=image/jpeg:https://gardrolma.org/wp-content/uploads/2019/11/Manjushri.jpg
GEO:39.741206;-84.1541782
X-APPLE-STRUCTURED-LOCATION;VALUE=URI;X-ADDRESS=Gar Drolma Buddhist Center 1329 Creighton Ave. Dayton OH 45420 United States;X-APPLE-RADIUS=500;X-TITLE=1329 Creighton Ave.:geo:-84.1541782,39.741206
END:VEVENT
BEGIN:VEVENT
DTSTART;TZID=America/New_York:20251005T100000
DTEND;TZID=America/New_York:20251005T160000
DTSTAMP:20260419T195213
CREATED:20251005T134640Z
LAST-MODIFIED:20251014T150513Z
UID:10003407-1759658400-1759680000@gardrolma.org
SUMMARY:Perfect Your Wisdom with Manjushri
DESCRIPTION:The Buddhis of Wisdomled by Khenpo Samdup Rinpoche\n\n\n\n \n\n\n\n\n\n\n\n\n\n\n\nSATURDAY October 4th*10:00am – 12:00‌pm E‌DT‌ Manjushri Empowerment 2:00 – 4:00pm EDT Manjushri Teachings & Practice \n\n\n\nSUNDAY October 5th‌*10:00am – 12:00‌pm E‌DT‌ & 2:00 – 4:00pm EDT Manjusrhi Teachings & Practice \n\n\n\n*Mandarin translation available \n\n\n\nJoin Khenpo at our sister center Drikung Dharma Surya in Fairfax\, Virginia for the profound teachings and practice of Manjushri.  \n\n\n\nThe practice of Manjushri enables the individual to cultivate and increase wisdom by facilitating the sharpening of intelligence and the ability to engage in critical analysis. It also enhances the development  of bodhicitta that leads to the state of omniscience. \n\n\n\nWe invite you to participate in our online sessions at Gar Drolma\, including morning sessions and afternoon sessions available online only with the international sangha.  \n\n\n\n\n\n\n\nWe are only able to offer Dharma programs like this because of your kindness and generosity. Please know that your donation brings great benefit to the entire Sangha. Thank you! \n\n\n\n\nDonations Appreciated\n\n\n\n\n\n\n\n\nText Download\n\n\n\n\nDownload Deity Yoga Sadhana\n\n\n\n\n\n\n\n\nVideo Library\n\n\n\n\n\n\n\n\n\n\n\n\n\n\nReturn to Video Library Page
URL:https://gardrolma.org/programs/perfect-your-wisdom-with-manjushri-2/
LOCATION:Gar Drolma Buddhist Center\, 1329 Creighton Ave.\, Dayton\, OH\, 45420\, United States
CATEGORIES:Special,Video 2025
ATTACH;FMTTYPE=image/jpeg:https://gardrolma.org/wp-content/uploads/2019/11/Manjushri.jpg
GEO:39.741206;-84.1541782
X-APPLE-STRUCTURED-LOCATION;VALUE=URI;X-ADDRESS=Gar Drolma Buddhist Center 1329 Creighton Ave. Dayton OH 45420 United States;X-APPLE-RADIUS=500;X-TITLE=1329 Creighton Ave.:geo:-84.1541782,39.741206
END:VEVENT
BEGIN:VEVENT
DTSTART;TZID=America/New_York:20251007T130000
DTEND;TZID=America/New_York:20251007T133000
DTSTAMP:20260419T195213
CREATED:20250210T181842Z
LAST-MODIFIED:20260414T222033Z
UID:10003408-1759842000-1759843800@gardrolma.org
SUMMARY:Buddha Amitabha Practice & Great Drikung Phowa Chenmo Practice\, “The Standing Blade of Grass” 
DESCRIPTION:ONLINE ONLY\n\n\n\nThis popular practice helps assure a more positive rebirth\, or possibly even attainment of Amitabha Pureland\, at the time of death.  \n\n\n\nThis practice will be led by a senior student.   \n\n\n\n \n\n\n\n\n\n\n\n\nRequest Zoom Info Here\n\n\n\n\n\n\n\n\n\n\n\n\nText Downloads\n\n\n\n\nShort Phowa Text (with Spanish)\n\n\n\n\n\n\n\n\n\n\nWe are only able to offer Dharma programs like this because of your kindness and generosity.Please know that your donation brings great benefit tothe entire Sangha. Thank you! \n\n\n\n\nDonations Appreciated
URL:https://gardrolma.org/programs/buddha-amitabha-practice-great-drikung-phowa-chenmo-practice-the-standing-blade-of-grass-19/2025-10-07/
LOCATION:OH
CATEGORIES:Special
ATTACH;FMTTYPE=image/jpeg:https://gardrolma.org/wp-content/uploads/2016/08/Combined-Amitabha-Chenrezig-and-Vajrapani-Puga-e1481837094894.jpg
END:VEVENT
BEGIN:VEVENT
DTSTART;TZID=America/New_York:20251011T090000
DTEND;TZID=America/New_York:20251011T103000
DTSTAMP:20260419T195213
CREATED:20251007T141924Z
LAST-MODIFIED:20251014T150526Z
UID:10003412-1760173200-1760178600@gardrolma.org
SUMMARY:The Three Layered Protection Sphere
DESCRIPTION:Teachings and Practicewith Khenpo Samdup Rinpoche\n\n\n\n \n\n\n\n\n\n\n\n\n\n\n\nSATURDAY October 11th and SUNDAY October 12th*9:00am – 10:30am E‌DT‌ Teachings and Practice10:30am – 11:30am EDT Daily Practice \n\n\n\n*Mandarin translation available \n\n\n\nJoin Khenpo Samdup Rinpoche this weekend as we explore the luminous protection sphere —the radiant boundary that seals the sacred space of practice.  \n\n\n\nThe Three Layered Protection Sphere by Lord Jigten Sumgon remains a cherished and widely practiced teaching in the Drikung Kagyu lineage. Through understanding and visualization\, we can rest within its light of clarity and compassion\, guiding us toward the realization of the nature of mind and enlightenment. \n\n\n\n\n\n\n\nWe are only able to offer Dharma programs like this because of your kindness and generosity. Please know that your donation brings great benefit to the entire Sangha. Thank you! \n\n\n\n\nDonations Appreciated\n\n\n\n\n\n\n\n\nText Download\n\n\n\n\nDownload The Three Layered Protection Sphere Text
URL:https://gardrolma.org/programs/three-layered-protection-sphere/
LOCATION:Gar Drolma Buddhist Center\, 1329 Creighton Ave.\, Dayton\, OH\, 45420\, United States
CATEGORIES:Special
ATTACH;FMTTYPE=image/webp:https://gardrolma.org/wp-content/uploads/2025/10/Three-Layered-Protection.webp
GEO:39.741206;-84.1541782
X-APPLE-STRUCTURED-LOCATION;VALUE=URI;X-ADDRESS=Gar Drolma Buddhist Center 1329 Creighton Ave. Dayton OH 45420 United States;X-APPLE-RADIUS=500;X-TITLE=1329 Creighton Ave.:geo:-84.1541782,39.741206
END:VEVENT
BEGIN:VEVENT
DTSTART;TZID=America/New_York:20251012T090000
DTEND;TZID=America/New_York:20251012T103000
DTSTAMP:20260419T195213
CREATED:20251007T142339Z
LAST-MODIFIED:20251014T150536Z
UID:10003413-1760259600-1760265000@gardrolma.org
SUMMARY:The Three Layered Protection Sphere
DESCRIPTION:Teachings and Practicewith Khenpo Samdup Rinpoche\n\n\n\n \n\n\n\n\n\n\n\n\n\n\n\nSATURDAY October 11th and SUNDAY October 12th*9:00am – 10:30am E‌DT‌ Teachings and Practice10:30am – 11:30am EDT Daily Practice \n\n\n\n*Mandarin translation available \n\n\n\nJoin Khenpo Samdup Rinpoche this weekend as we explore the luminous protection sphere —the radiant boundary that seals the sacred space of practice.  \n\n\n\nThe Three Layered Protection Sphere by Lord Jigten Sumgon remains a cherished and widely practiced teaching in the Drikung Kagyu lineage. Through understanding and visualization\, we can rest within its light of clarity and compassion\, guiding us toward the realization of the nature of mind and enlightenment. \n\n\n\n\n\n\n\nWe are only able to offer Dharma programs like this because of your kindness and generosity. Please know that your donation brings great benefit to the entire Sangha. Thank you! \n\n\n\n\nDonations Appreciated\n\n\n\n\n\n\n\n\nText Download\n\n\n\n\nDownload The Three Layered Protection Sphere Text
URL:https://gardrolma.org/programs/the-three-layered-protection-sphere/
LOCATION:Gar Drolma Buddhist Center\, 1329 Creighton Ave.\, Dayton\, OH\, 45420\, United States
CATEGORIES:Special
ATTACH;FMTTYPE=image/webp:https://gardrolma.org/wp-content/uploads/2025/10/Three-Layered-Protection.webp
GEO:39.741206;-84.1541782
X-APPLE-STRUCTURED-LOCATION;VALUE=URI;X-ADDRESS=Gar Drolma Buddhist Center 1329 Creighton Ave. Dayton OH 45420 United States;X-APPLE-RADIUS=500;X-TITLE=1329 Creighton Ave.:geo:-84.1541782,39.741206
END:VEVENT
BEGIN:VEVENT
DTSTART;TZID=America/New_York:20251013T193000
DTEND;TZID=America/New_York:20251013T203000
DTSTAMP:20260419T195213
CREATED:20250120T163716Z
LAST-MODIFIED:20260302T154100Z
UID:10003410-1760383800-1760387400@gardrolma.org
SUMMARY:White Sur Offering called Pervading All Purelands (Online Only)
DESCRIPTION:~The time of death can be an opportunity for the realization of great wisdom or taking a happier rebirth ~ \n\n\n\n• Join us for a White Sur offering lead by senior student and Sangha. • The White Sur consists of a smoke offering of flour\, sweets\, dairy products or a special blend of offering substances. This practice can be dedicated for the benefit of people or animals who have died to help them purify karma and take a better rebirth. \n\n\n\n\nRequest Zoom Info Here\n\n\n\n\n\n\n\n\nClick here to see our complete Virtual Dharma weekly schedule. \n\n\n\n\n\n\n\nText Downloads\n\n\n\n\nWhite Sur Text
URL:https://gardrolma.org/programs/white-sur-offering-called-pervading-all-purelands-online-only-8/2025-10-13/
LOCATION:OH
CATEGORIES:Special
ATTACH;FMTTYPE=image/jpeg:https://gardrolma.org/wp-content/uploads/2021/09/White_Sur_Offering_Program.jpg
END:VEVENT
BEGIN:VEVENT
DTSTART;TZID=America/New_York:20251018T090000
DTEND;TZID=America/New_York:20251018T110000
DTSTAMP:20260419T195213
CREATED:20251018T130000Z
LAST-MODIFIED:20251020T145415Z
UID:10003414-1760778000-1760785200@gardrolma.org
SUMMARY:Empowerment of Samadhi
DESCRIPTION:From the Profound Dharma of Kyobpa Rinpoche Jigten Sumgöncommentary by Khenpo Samdup Rinpoche\n\n\n\n \n\n\n\n\n\n\n\n\n\n\n\nSATURDAY October 18th*9:00am – 11:00‌pm E‌DT‌ TeachingsDaily Practice will follow teachings  \n\n\n\nSUNDAY October 19th*9:00am – 11:00‌pm E‌DT‌ TeachingsDaily Practice will follow teachings  \n\n\n\n*Mandarin translation available \n\n\n\nThe “Empowerment of Samadhi” by Lord Jigten Sumgon is a Vajrayana Buddhist practice\, found in a text of the same name\, that allows practitioners to engage in self-empowerment. It is based on the understanding that the practitioner’s mind and the deity are not separate\, and by engaging in the practice with faith\, one can receive blessings and achieve a state of samadhi or meditative absorption. \n\n\n\nThe practice of Manjushri enables the individual to cultivate and increase wisdom by facilitating the sharpening of intelligence and the ability to engage in critical analysis. It also enhances the development  of bodhicitta that leads to the state of omniscience. \n\n\n\nWe invite you to participate in our online sessions at Gar Drolma\, including morning sessions and afternoon sessions available online only with the international sangha.  \n\n\n\n\n\n\n\nWe are only able to offer Dharma programs like this because of your kindness and generosity. Please know that your donation brings great benefit to the entire Sangha. Thank you! \n\n\n\n\nDonations Appreciated\n\n\n\n\n\n\n\n\n\n\n\n\nVideo Library\n\n\n\n\n\n\n\n\n\n\n\n\n\n\n\n\n\n\nReturn to Video Library Page
URL:https://gardrolma.org/programs/empowerment-of-samadhi/
LOCATION:Gar Drolma Buddhist Center\, 1329 Creighton Ave.\, Dayton\, OH\, 45420\, United States
CATEGORIES:Special,Video 2025
ATTACH;FMTTYPE=image/webp:https://gardrolma.org/wp-content/uploads/2025/10/Samadhi.webp
GEO:39.741206;-84.1541782
X-APPLE-STRUCTURED-LOCATION;VALUE=URI;X-ADDRESS=Gar Drolma Buddhist Center 1329 Creighton Ave. Dayton OH 45420 United States;X-APPLE-RADIUS=500;X-TITLE=1329 Creighton Ave.:geo:-84.1541782,39.741206
END:VEVENT
BEGIN:VEVENT
DTSTART;TZID=America/New_York:20251019T090000
DTEND;TZID=America/New_York:20251019T110000
DTSTAMP:20260419T195213
CREATED:20251013T141442Z
LAST-MODIFIED:20251013T141446Z
UID:10003415-1760864400-1760871600@gardrolma.org
SUMMARY:Empowerment of Samadhi
DESCRIPTION:From the Profound Dharma of Kyobpa Rinpoche Jigten Sumgöncommentary by Khenpo Samdup Rinpoche\n\n\n\n \n\n\n\n\n\n\n\n\n\n\n\nSATURDAY October 18th*9:00am – 11:00‌pm E‌DT‌ TeachingsDaily Practice will follow teachings  \n\n\n\nSUNDAY October 19th*9:00am – 11:00‌pm E‌DT‌ TeachingsDaily Practice will follow teachings  \n\n\n\n*Mandarin translation available \n\n\n\nThe “Empowerment of Samadhi” by Lord Jigten Sumgon is a Vajrayana Buddhist practice\, found in a text of the same name\, that allows practitioners to engage in self-empowerment. It is based on the understanding that the practitioner’s mind and the deity are not separate\, and by engaging in the practice with faith\, one can receive blessings and achieve a state of samadhi or meditative absorption. \n\n\n\nThe practice of Manjushri enables the individual to cultivate and increase wisdom by facilitating the sharpening of intelligence and the ability to engage in critical analysis. It also enhances the development  of bodhicitta that leads to the state of omniscience. \n\n\n\nWe invite you to participate in our online sessions at Gar Drolma\, including morning sessions and afternoon sessions available online only with the international sangha.  \n\n\n\n\n\n\n\nPlease click below to get Zoom info or to make a donation.\n\n\n\n\nRequest Zoom Info Here\n\n\n\nDonations Appreciated\n\n\n\n\nWe are only able to offer Dharma programs like this because of your kindness and generosity. Please know that your donation brings great benefit to the entire Sangha. Thank you!
URL:https://gardrolma.org/programs/empowerment-of-samadhi-2/
LOCATION:Gar Drolma Buddhist Center\, 1329 Creighton Ave.\, Dayton\, OH\, 45420\, United States
CATEGORIES:Special
ATTACH;FMTTYPE=image/webp:https://gardrolma.org/wp-content/uploads/2025/10/Samadhi.webp
GEO:39.741206;-84.1541782
X-APPLE-STRUCTURED-LOCATION;VALUE=URI;X-ADDRESS=Gar Drolma Buddhist Center 1329 Creighton Ave. Dayton OH 45420 United States;X-APPLE-RADIUS=500;X-TITLE=1329 Creighton Ave.:geo:-84.1541782,39.741206
END:VEVENT
BEGIN:VEVENT
DTSTART;TZID=America/New_York:20251021T130000
DTEND;TZID=America/New_York:20251021T133000
DTSTAMP:20260419T195213
CREATED:20250210T181842Z
LAST-MODIFIED:20260414T222033Z
UID:10003409-1761051600-1761053400@gardrolma.org
SUMMARY:Buddha Amitabha Practice & Great Drikung Phowa Chenmo Practice\, “The Standing Blade of Grass” 
DESCRIPTION:ONLINE ONLY\n\n\n\nThis popular practice helps assure a more positive rebirth\, or possibly even attainment of Amitabha Pureland\, at the time of death.  \n\n\n\nThis practice will be led by a senior student.   \n\n\n\n \n\n\n\n\n\n\n\n\nRequest Zoom Info Here\n\n\n\n\n\n\n\n\n\n\n\n\nText Downloads\n\n\n\n\nShort Phowa Text (with Spanish)\n\n\n\n\n\n\n\n\n\n\nWe are only able to offer Dharma programs like this because of your kindness and generosity.Please know that your donation brings great benefit tothe entire Sangha. Thank you! \n\n\n\n\nDonations Appreciated
URL:https://gardrolma.org/programs/buddha-amitabha-practice-great-drikung-phowa-chenmo-practice-the-standing-blade-of-grass-19/2025-10-21/
LOCATION:OH
CATEGORIES:Special
ATTACH;FMTTYPE=image/jpeg:https://gardrolma.org/wp-content/uploads/2016/08/Combined-Amitabha-Chenrezig-and-Vajrapani-Puga-e1481837094894.jpg
END:VEVENT
BEGIN:VEVENT
DTSTART;TZID=America/New_York:20251025T090000
DTEND;TZID=America/New_York:20251025T120000
DTSTAMP:20260419T195213
CREATED:20251025T125143Z
LAST-MODIFIED:20251027T145449Z
UID:10003421-1761382800-1761393600@gardrolma.org
SUMMARY:Dream Yoga
DESCRIPTION:Based on Guru Nyida Ozer’s Dream Yoga Experiencecommentary by Khenpo Samdup Rinpoche\n\n\n\n \n\n\n\n\n\n\n\n\n\n\n\nSATURDAY October 25th*9:00 am – 11:00‌ pm E‌DT‌ – Teachings11:00 am – 12:00 pm EDT – Daily Practice \n\n\n\nSUNDAY October 26th*9:00 am – 11:00‌ pm E‌DT‌ – Teachings11:00 am – 12:00 pm EDT – Daily Practice \n\n\n\n*Mandarin translation available \n\n\n\nJoin us this w‌ee‌ke‌nd as Khenpo Samdup Rinpoche offers a dream yoga commentary on the profound spiritual journey of Guru Nyida Ozer\, a revered teacher deeply rooted in the Tibetan Buddhist tradition. \n\n\n\nGuru Nyida Ozer wrote down his dream yoga experience with a wish that it would benefit many other beings. At the heart of this story is a powerful dream experience through which Guru Nyida Ozer connects with and helps his younger brother and others who are in the bardo—the intermediate state between death and rebirth.“This story gives us the information we need in order to prepare for death while we are still in the living bardo\, and it tells us what we have to do when we enter into the bardo. All guidance for this is in this teaching.”                              ~ Khenpo Samdup Rinpoche~ \n\n\n\n\n\n\n\n\n\n\n\nWe are only able to offer Dharma programs like this because of your kindness and generosity. Please know that your donation brings great benefit to the entire Sangha. Thank you! \n\n\n\n\nDonations Appreciated\n\n\n\n\n\n\n\n\n\n\nVideo Library\n\n\n\n\n\n\n\n\n\n\n\n\n\n\n\n\nReturn to Video Library Page
URL:https://gardrolma.org/programs/dream-yoga/
LOCATION:Gar Drolma Buddhist Center\, 1329 Creighton Ave.\, Dayton\, OH\, 45420\, United States
CATEGORIES:Special,Video 2025
ATTACH;FMTTYPE=image/webp:https://gardrolma.org/wp-content/uploads/2025/10/DreamYoga.webp
GEO:39.741206;-84.1541782
X-APPLE-STRUCTURED-LOCATION;VALUE=URI;X-ADDRESS=Gar Drolma Buddhist Center 1329 Creighton Ave. Dayton OH 45420 United States;X-APPLE-RADIUS=500;X-TITLE=1329 Creighton Ave.:geo:-84.1541782,39.741206
END:VEVENT
BEGIN:VEVENT
DTSTART;TZID=America/New_York:20251026T090000
DTEND;TZID=America/New_York:20251026T120000
DTSTAMP:20260419T195213
CREATED:20251020T200833Z
LAST-MODIFIED:20251020T200836Z
UID:10003422-1761469200-1761480000@gardrolma.org
SUMMARY:Dream Yoga
DESCRIPTION:Based on Guru Nyida Ozer’s Dream Yoga Experiencecommentary by Khenpo Samdup Rinpoche\n\n\n\n \n\n\n\n\n\n\n\n\n\n\n\nSATURDAY October 25th*9:00 am – 11:00‌ pm E‌DT‌ – Teachings11:00 am – 12:00 pm EDT – Daily Practice \n\n\n\nSUNDAY October 26th*9:00 am – 11:00‌ pm E‌DT‌ – Teachings11:00 am – 12:00 pm EDT – Daily Practice \n\n\n\n*Mandarin translation available \n\n\n\nJoin us this w‌ee‌ke‌nd as Khenpo Samdup Rinpoche offers a dream yoga commentary on the profound spiritual journey of Guru Nyida Ozer\, a revered teacher deeply rooted in the Tibetan Buddhist tradition. \n\n\n\nGuru Nyida Ozer wrote down his dream yoga experience with a wish that it would benefit many other beings. At the heart of this story is a powerful dream experience through which Guru Nyida Ozer connects with and helps his younger brother and others who are in the bardo—the intermediate state between death and rebirth.“This story gives us the information we need in order to prepare for death while we are still in the living bardo\, and it tells us what we have to do when we enter into the bardo. All guidance for this is in this teaching.”                              ~ Khenpo Samdup Rinpoche~ \n\n\n\n\n\n\n\nPlease click below to get Zoom info or to make a donation.\n\n\n\n\nRequest Zoom Info Here\n\n\n\nDonations Appreciated\n\n\n\n\nWe are only able to offer Dharma programs like this because of your kindness and generosity. Please know that your donation brings great benefit to the entire Sangha. Thank you!
URL:https://gardrolma.org/programs/dream-yoga-2/
LOCATION:Gar Drolma Buddhist Center\, 1329 Creighton Ave.\, Dayton\, OH\, 45420\, United States
CATEGORIES:Special
ATTACH;FMTTYPE=image/webp:https://gardrolma.org/wp-content/uploads/2025/10/DreamYoga.webp
GEO:39.741206;-84.1541782
X-APPLE-STRUCTURED-LOCATION;VALUE=URI;X-ADDRESS=Gar Drolma Buddhist Center 1329 Creighton Ave. Dayton OH 45420 United States;X-APPLE-RADIUS=500;X-TITLE=1329 Creighton Ave.:geo:-84.1541782,39.741206
END:VEVENT
BEGIN:VEVENT
DTSTART;TZID=America/New_York:20251027T193000
DTEND;TZID=America/New_York:20251027T203000
DTSTAMP:20260419T195213
CREATED:20250120T163716Z
LAST-MODIFIED:20260302T154100Z
UID:10003411-1761593400-1761597000@gardrolma.org
SUMMARY:White Sur Offering called Pervading All Purelands (Online Only)
DESCRIPTION:~The time of death can be an opportunity for the realization of great wisdom or taking a happier rebirth ~ \n\n\n\n• Join us for a White Sur offering lead by senior student and Sangha. • The White Sur consists of a smoke offering of flour\, sweets\, dairy products or a special blend of offering substances. This practice can be dedicated for the benefit of people or animals who have died to help them purify karma and take a better rebirth. \n\n\n\n\nRequest Zoom Info Here\n\n\n\n\n\n\n\n\nClick here to see our complete Virtual Dharma weekly schedule. \n\n\n\n\n\n\n\nText Downloads\n\n\n\n\nWhite Sur Text
URL:https://gardrolma.org/programs/white-sur-offering-called-pervading-all-purelands-online-only-8/2025-10-27/
LOCATION:OH
CATEGORIES:Special
ATTACH;FMTTYPE=image/jpeg:https://gardrolma.org/wp-content/uploads/2021/09/White_Sur_Offering_Program.jpg
END:VEVENT
END:VCALENDAR