BEGIN:VCALENDAR
VERSION:2.0
PRODID:-//Gar Drolma Buddhist Learning and Meditation Center - ECPv6.15.20//NONSGML v1.0//EN
CALSCALE:GREGORIAN
METHOD:PUBLISH
X-WR-CALNAME:Gar Drolma Buddhist Learning and Meditation Center
X-ORIGINAL-URL:https://gardrolma.org
X-WR-CALDESC:Events for Gar Drolma Buddhist Learning and Meditation Center
REFRESH-INTERVAL;VALUE=DURATION:PT1H
X-Robots-Tag:noindex
X-PUBLISHED-TTL:PT1H
BEGIN:VTIMEZONE
TZID:America/New_York
BEGIN:DAYLIGHT
TZOFFSETFROM:-0500
TZOFFSETTO:-0400
TZNAME:EDT
DTSTART:20240310T070000
END:DAYLIGHT
BEGIN:STANDARD
TZOFFSETFROM:-0400
TZOFFSETTO:-0500
TZNAME:EST
DTSTART:20241103T060000
END:STANDARD
BEGIN:DAYLIGHT
TZOFFSETFROM:-0500
TZOFFSETTO:-0400
TZNAME:EDT
DTSTART:20250309T070000
END:DAYLIGHT
BEGIN:STANDARD
TZOFFSETFROM:-0400
TZOFFSETTO:-0500
TZNAME:EST
DTSTART:20251102T060000
END:STANDARD
BEGIN:DAYLIGHT
TZOFFSETFROM:-0500
TZOFFSETTO:-0400
TZNAME:EDT
DTSTART:20260308T070000
END:DAYLIGHT
BEGIN:STANDARD
TZOFFSETFROM:-0400
TZOFFSETTO:-0500
TZNAME:EST
DTSTART:20261101T060000
END:STANDARD
END:VTIMEZONE
BEGIN:VEVENT
DTSTART;TZID=America/New_York:20250705T090000
DTEND;TZID=America/New_York:20250705T113000
DTSTAMP:20260420T011853
CREATED:20250705T151230Z
LAST-MODIFIED:20250709T155807Z
UID:10003362-1751706000-1751715000@gardrolma.org
SUMMARY:Concise Verses of the Four Yogas of Mahamudra
DESCRIPTION:Instructions for Realizing the Supreme Heart Essence\n\n\n\nWith Khenpo Samdup Rinpochehosted by Drikung Garchen Institute in Munich\, Germany \n\n\n\n \n\n\n\n\n\n\n\n\n\n\n\n‌SATURDAY JULY 5th and SUNDAY JULY 6th‌ ‌\n\n\n\n* 9:00 am – 10‌:30 ‌am E‌DT – Teachings \n\n\n\n*10:30 am – 11:30 pm EDT – Daily Practice \n\n\n\n*Mandarin translation available \n\n\n\nThis profound heart-essence teaching was personally entrusted by our beloved guru\, Garchen Rinpoche to Khenpo Samdup Rinpoche – and now\, with the unbroken stream of blessing\, it is directly conferred upon you. \n\n\n\nThere is no need to wander or search afar – the realization of this innermost Dharma abides right here\, closer than your very own breath\, nearer than thought itself.   \n\n\n\n\n\n\n\nWe are only able to offer Dharma programs like this because of your kindness and generosity. Please know that your donation brings great benefit to the entire Sangha. Thank you! \n\n\n\n\nDonations Appreciated\n\n\n\n\n\n\n\n\n\n\n\n\nVideo Library\n\n\n\n\n« Prev1 / 1Next »Four Yogas of Mahamudra with Khenpo Samdup Rinpoche July 6\, 2025Four Yogas of Mahamudra with Khenpo Samdup Rinpoche July 5\, 2025« Prev1 / 1Next »\n\n\n\n\n\n\n\nReturn to Video Library Page
URL:https://gardrolma.org/programs/concise-verses-of-the-four-yogas-of-mahamudra/
LOCATION:Gar Drolma Buddhist Center\, 1329 Creighton Ave.\, Dayton\, OH\, 45420\, United States
CATEGORIES:Special,Video 2025
ATTACH;FMTTYPE=image/webp:https://gardrolma.org/wp-content/uploads/2025/07/Khenpo_featured.webp
GEO:39.741206;-84.1541782
X-APPLE-STRUCTURED-LOCATION;VALUE=URI;X-ADDRESS=Gar Drolma Buddhist Center 1329 Creighton Ave. Dayton OH 45420 United States;X-APPLE-RADIUS=500;X-TITLE=1329 Creighton Ave.:geo:-84.1541782,39.741206
END:VEVENT
BEGIN:VEVENT
DTSTART;TZID=America/New_York:20250706T090000
DTEND;TZID=America/New_York:20250706T113000
DTSTAMP:20260420T011854
CREATED:20250703T151421Z
LAST-MODIFIED:20250703T151423Z
UID:10003363-1751792400-1751801400@gardrolma.org
SUMMARY:Concise Verses of the Four Yogas of Mahamudra
DESCRIPTION:Instructions for Realizing the Supreme Heart Essence\n\n\n\nWith Khenpo Samdup Rinpochehosted by Drikung Garchen Institute in Munich\, Germany \n\n\n\n \n\n\n\n\n\n\n\n\n\n\n\n‌SATURDAY JULY 5th and SUNDAY JULY 6th‌ ‌\n\n\n\n* 9:00 am – 10‌:30 ‌am E‌DT – Teachings \n\n\n\n*10:30 am – 11:30 pm EDT – Daily Practice \n\n\n\n*Mandarin translation available \n\n\n\nThis profound heart-essence teaching was personally entrusted by our beloved guru\, Garchen Rinpoche to Khenpo Samdup Rinpoche – and now\, with the unbroken stream of blessing\, it is directly conferred upon you. \n\n\n\nThere is no need to wander or search afar – the realization of this innermost Dharma abides right here\, closer than your very own breath\, nearer than thought itself.   \n\n\n\n\n\n\n\nPlease click below to get Zoom info or to make a donation.\n\n\n\n\nRequest Zoom Info Here\n\n\n\nDonations Appreciated\n\n\n\n\nWe are only able to offer Dharma programs like this because of your kindness and generosity. Please know that your donation brings great benefit to the entire Sangha. Thank you!
URL:https://gardrolma.org/programs/concise-verses-of-the-four-yogas-of-mahamudra-2/
LOCATION:Gar Drolma Buddhist Center\, 1329 Creighton Ave.\, Dayton\, OH\, 45420\, United States
CATEGORIES:Special
ATTACH;FMTTYPE=image/webp:https://gardrolma.org/wp-content/uploads/2025/07/Khenpo_featured.webp
GEO:39.741206;-84.1541782
X-APPLE-STRUCTURED-LOCATION;VALUE=URI;X-ADDRESS=Gar Drolma Buddhist Center 1329 Creighton Ave. Dayton OH 45420 United States;X-APPLE-RADIUS=500;X-TITLE=1329 Creighton Ave.:geo:-84.1541782,39.741206
END:VEVENT
BEGIN:VEVENT
DTSTART;TZID=America/New_York:20250710T130000
DTEND;TZID=America/New_York:20250710T133000
DTSTAMP:20260420T011854
CREATED:20250210T181842Z
LAST-MODIFIED:20260414T222033Z
UID:10003364-1752152400-1752154200@gardrolma.org
SUMMARY:Buddha Amitabha Practice & Great Drikung Phowa Chenmo Practice\, “The Standing Blade of Grass” 
DESCRIPTION:ONLINE ONLY\n\n\n\nThis popular practice helps assure a more positive rebirth\, or possibly even attainment of Amitabha Pureland\, at the time of death.  \n\n\n\nThis practice will be led by a senior student.   \n\n\n\n \n\n\n\n\n\n\n\n\nRequest Zoom Info Here\n\n\n\n\n\n\n\n\n\n\n\n\nText Downloads\n\n\n\n\nShort Phowa Text (with Spanish)\n\n\n\n\n\n\n\n\n\n\nWe are only able to offer Dharma programs like this because of your kindness and generosity.Please know that your donation brings great benefit tothe entire Sangha. Thank you! \n\n\n\n\nDonations Appreciated
URL:https://gardrolma.org/programs/buddha-amitabha-practice-great-drikung-phowa-chenmo-practice-the-standing-blade-of-grass-19/2025-07-10/
LOCATION:OH
CATEGORIES:Special
ATTACH;FMTTYPE=image/jpeg:https://gardrolma.org/wp-content/uploads/2016/08/Combined-Amitabha-Chenrezig-and-Vajrapani-Puga-e1481837094894.jpg
END:VEVENT
BEGIN:VEVENT
DTSTART;TZID=America/New_York:20250712T090000
DTEND;TZID=America/New_York:20250712T110000
DTSTAMP:20260420T011854
CREATED:20250710T125903Z
LAST-MODIFIED:20250710T125907Z
UID:10003365-1752310800-1752318000@gardrolma.org
SUMMARY:Tara Teachings and Practice
DESCRIPTION:From Ibiza\, Spain with Khenpo Samdup Rinpoche\n\n\n\n \n\n\n\n\n\n\n\n\n\n\n\n‌SATURDAY JULY 12th and SUNDAY JULY 13th‌ ‌\n\n\n\n* 9:00 am – 11‌:00 ‌am E‌DT – Tara Teachings & Practice \n\n\n\n11:300 am – 12:00 pm EDT – Daily Practice \n\n\n\n*Mandarin translation available \n\n\n\nJoin Khenpo and the international sangha in Ibiza\, Spain for teachings and practice on Tara.   \n\n\n\nTara is the essence of compassion\, often compared to a mother who loves all sentient beings as she would her only child. Her practice brings one closer to realizing the enlightened qualities she embodies.  \n\n\n\n\n\n\n\nPlease click below to get Zoom info or to make a donation.\n\n\n\n\nRequest Zoom Info Here\n\n\n\nDonations Appreciated\n\n\n\n\nWe are only able to offer Dharma programs like this because of your kindness and generosity. Please know that your donation brings great benefit to the entire Sangha. Thank you!
URL:https://gardrolma.org/programs/tara-teachings-and-practice/
LOCATION:Gar Drolma Buddhist Center\, 1329 Creighton Ave.\, Dayton\, OH\, 45420\, United States
CATEGORIES:Special
ATTACH;FMTTYPE=image/webp:https://gardrolma.org/wp-content/uploads/2025/07/Tara.webp
GEO:39.741206;-84.1541782
X-APPLE-STRUCTURED-LOCATION;VALUE=URI;X-ADDRESS=Gar Drolma Buddhist Center 1329 Creighton Ave. Dayton OH 45420 United States;X-APPLE-RADIUS=500;X-TITLE=1329 Creighton Ave.:geo:-84.1541782,39.741206
END:VEVENT
BEGIN:VEVENT
DTSTART;TZID=America/New_York:20250713T090000
DTEND;TZID=America/New_York:20250713T110000
DTSTAMP:20260420T011854
CREATED:20250710T130037Z
LAST-MODIFIED:20250710T130040Z
UID:10003366-1752397200-1752404400@gardrolma.org
SUMMARY:Tara Teachings and Practice
DESCRIPTION:From Ibiza\, Spain with Khenpo Samdup Rinpoche\n\n\n\n \n\n\n\n\n\n\n\n\n\n\n\n‌SATURDAY JULY 12th and SUNDAY JULY 13th‌ ‌\n\n\n\n* 9:00 am – 11‌:00 ‌am E‌DT – Tara Teachings & Practice \n\n\n\n11:300 am – 12:00 pm EDT – Daily Practice \n\n\n\n*Mandarin translation available \n\n\n\nJoin Khenpo and the international sangha in Ibiza\, Spain for teachings and practice on Tara.   \n\n\n\nTara is the essence of compassion\, often compared to a mother who loves all sentient beings as she would her only child. Her practice brings one closer to realizing the enlightened qualities she embodies.  \n\n\n\n\n\n\n\nPlease click below to get Zoom info or to make a donation.\n\n\n\n\nRequest Zoom Info Here\n\n\n\nDonations Appreciated\n\n\n\n\nWe are only able to offer Dharma programs like this because of your kindness and generosity. Please know that your donation brings great benefit to the entire Sangha. Thank you!
URL:https://gardrolma.org/programs/tara-teachings-and-practice-2/
LOCATION:Gar Drolma Buddhist Center\, 1329 Creighton Ave.\, Dayton\, OH\, 45420\, United States
CATEGORIES:Special
ATTACH;FMTTYPE=image/webp:https://gardrolma.org/wp-content/uploads/2025/07/Tara.webp
GEO:39.741206;-84.1541782
X-APPLE-STRUCTURED-LOCATION;VALUE=URI;X-ADDRESS=Gar Drolma Buddhist Center 1329 Creighton Ave. Dayton OH 45420 United States;X-APPLE-RADIUS=500;X-TITLE=1329 Creighton Ave.:geo:-84.1541782,39.741206
END:VEVENT
BEGIN:VEVENT
DTSTART;TZID=America/New_York:20250719T090000
DTEND;TZID=America/New_York:20250719T110000
DTSTAMP:20260420T011854
CREATED:20250717T134915Z
LAST-MODIFIED:20250717T134917Z
UID:10003370-1752915600-1752922800@gardrolma.org
SUMMARY:Wrathful Guru Rinpoche Empowerment\, Teachings & Practice
DESCRIPTION:From Ibiza\, Spain with Khenpo Samdup Rinpoche\n\n\n\n \n\n\n\n\n\n\n\n\n\n\n\nSATURDAY DAY JULY 19th‌‌* 9:00 am – 11‌:00 ‌am E‌DT – Guru Drakpo Empowerment11:30 am – 12:00 pm EDT – Daily Practice \n\n\n\nSUNDAY JULY 20th‌  \n\n\n\n* 9:00 am – 11‌:00 ‌am E‌DT – Guru Drakpo Teaching and Practice11:30 am – 12:00 pm EDT – Daily Practice \n\n\n\n*Mandarin translation available \n\n\n\nGuru Drakpo is a wrathful form of Guru Rinpoche. This practice clears away negativity and obstacles on both physical and spiritual levels to prepare for a Tara Stupa opportunity\, abundance\, and good fortune.  \n\n\n\n \n\n\n\n\n\n\n\nPlease click below to get Zoom info or to make a donation.\n\n\n\n\nRequest Zoom Info Here\n\n\n\nDonations Appreciated\n\n\n\n\nWe are only able to offer Dharma programs like this because of your kindness and generosity. Please know that your donation brings great benefit to the entire Sangha. Thank you!
URL:https://gardrolma.org/programs/wrathful-guru-rinpoche-empowerment-teachings-practice/
LOCATION:Gar Drolma Buddhist Center\, 1329 Creighton Ave.\, Dayton\, OH\, 45420\, United States
CATEGORIES:Special
ATTACH;FMTTYPE=image/webp:https://gardrolma.org/wp-content/uploads/2025/07/Wrathful-Guru-Rinpoche.webp
GEO:39.741206;-84.1541782
X-APPLE-STRUCTURED-LOCATION;VALUE=URI;X-ADDRESS=Gar Drolma Buddhist Center 1329 Creighton Ave. Dayton OH 45420 United States;X-APPLE-RADIUS=500;X-TITLE=1329 Creighton Ave.:geo:-84.1541782,39.741206
END:VEVENT
BEGIN:VEVENT
DTSTART;TZID=America/New_York:20250720T090000
DTEND;TZID=America/New_York:20250720T110000
DTSTAMP:20260420T011854
CREATED:20250720T130000Z
LAST-MODIFIED:20250721T153623Z
UID:10003371-1753002000-1753009200@gardrolma.org
SUMMARY:Wrathful Guru Rinpoche Empowerment\, Teachings & Practice
DESCRIPTION:From Ibiza\, Spain with Khenpo Samdup Rinpoche\n\n\n\n \n\n\n\n\n\n\n\n\n\n\n\nSATURDAY DAY JULY 19th‌‌* 9:00 am – 11‌:00 ‌am E‌DT – Guru Drakpo Empowerment11:30 am – 12:00 pm EDT – Daily Practice \n\n\n\nSUNDAY JULY 20th‌  \n\n\n\n* 9:00 am – 11‌:00 ‌am E‌DT – Guru Drakpo Teaching and Practice11:30 am – 12:00 pm EDT – Daily Practice \n\n\n\n*Mandarin translation available \n\n\n\nGuru Drakpo is a wrathful form of Guru Rinpoche. This practice clears away negativity and obstacles on both physical and spiritual levels to prepare for a Tara Stupa opportunity\, abundance\, and good fortune.  \n\n\n\n\n\n\n\nWe are only able to offer Dharma programs like this because of your kindness and generosity. Please know that your donation brings great benefit to the entire Sangha. Thank you! \n\n\n\n\nDonations Appreciated\n\n\n\n\n\n\n\n\n\n\n\n\n\n\nText Downloads\n\n\n\n\nWrathful Guru Mantra Visualization\n\n\n\nDaily Practice of Guru Drakpo (Tibetan/English)\n\n\n\n\n\n\n\n\nMantras\n\n\n\nGuru Dragpo short mantra:Om A Hung Artsik Nirtsik Namo Bhagavate Hung Hung Ah Hung Hung Phat \n\n\n\nVajra Guru mantra: \n\n\n\nOm Ah Hung Benzra Guru Pema Siddhi Hung \n\n\n\n\n\n\n\nVideo Library\n\n\n\n\n\n\n\n\n\n\nReturn to Video Library Page
URL:https://gardrolma.org/programs/wrathful-guru-rinpoche-empowerment-teachings-practice-2/
LOCATION:Gar Drolma Buddhist Center\, 1329 Creighton Ave.\, Dayton\, OH\, 45420\, United States
CATEGORIES:Special,Video 2025
ATTACH;FMTTYPE=image/webp:https://gardrolma.org/wp-content/uploads/2025/07/Wrathful-Guru-Rinpoche.webp
GEO:39.741206;-84.1541782
X-APPLE-STRUCTURED-LOCATION;VALUE=URI;X-ADDRESS=Gar Drolma Buddhist Center 1329 Creighton Ave. Dayton OH 45420 United States;X-APPLE-RADIUS=500;X-TITLE=1329 Creighton Ave.:geo:-84.1541782,39.741206
END:VEVENT
BEGIN:VEVENT
DTSTART;TZID=America/New_York:20250721T193000
DTEND;TZID=America/New_York:20250721T203000
DTSTAMP:20260420T011854
CREATED:20250120T163716Z
LAST-MODIFIED:20260302T154100Z
UID:10003367-1753126200-1753129800@gardrolma.org
SUMMARY:White Sur Offering called Pervading All Purelands (Online Only)
DESCRIPTION:~The time of death can be an opportunity for the realization of great wisdom or taking a happier rebirth ~ \n\n\n\n• Join us for a White Sur offering lead by senior student and Sangha. • The White Sur consists of a smoke offering of flour\, sweets\, dairy products or a special blend of offering substances. This practice can be dedicated for the benefit of people or animals who have died to help them purify karma and take a better rebirth. \n\n\n\n\nRequest Zoom Info Here\n\n\n\n\n\n\n\n\nClick here to see our complete Virtual Dharma weekly schedule. \n\n\n\n\n\n\n\nText Downloads\n\n\n\n\nWhite Sur Text
URL:https://gardrolma.org/programs/white-sur-offering-called-pervading-all-purelands-online-only-8/2025-07-21/
LOCATION:OH
CATEGORIES:Special
ATTACH;FMTTYPE=image/jpeg:https://gardrolma.org/wp-content/uploads/2021/09/White_Sur_Offering_Program.jpg
END:VEVENT
BEGIN:VEVENT
DTSTART;TZID=America/New_York:20250724T130000
DTEND;TZID=America/New_York:20250724T133000
DTSTAMP:20260420T011854
CREATED:20250210T181842Z
LAST-MODIFIED:20260414T222033Z
UID:10003368-1753362000-1753363800@gardrolma.org
SUMMARY:Buddha Amitabha Practice & Great Drikung Phowa Chenmo Practice\, “The Standing Blade of Grass” 
DESCRIPTION:ONLINE ONLY\n\n\n\nThis popular practice helps assure a more positive rebirth\, or possibly even attainment of Amitabha Pureland\, at the time of death.  \n\n\n\nThis practice will be led by a senior student.   \n\n\n\n \n\n\n\n\n\n\n\n\nRequest Zoom Info Here\n\n\n\n\n\n\n\n\n\n\n\n\nText Downloads\n\n\n\n\nShort Phowa Text (with Spanish)\n\n\n\n\n\n\n\n\n\n\nWe are only able to offer Dharma programs like this because of your kindness and generosity.Please know that your donation brings great benefit tothe entire Sangha. Thank you! \n\n\n\n\nDonations Appreciated
URL:https://gardrolma.org/programs/buddha-amitabha-practice-great-drikung-phowa-chenmo-practice-the-standing-blade-of-grass-19/2025-07-24/
LOCATION:OH
CATEGORIES:Special
ATTACH;FMTTYPE=image/jpeg:https://gardrolma.org/wp-content/uploads/2016/08/Combined-Amitabha-Chenrezig-and-Vajrapani-Puga-e1481837094894.jpg
END:VEVENT
BEGIN:VEVENT
DTSTART;TZID=America/New_York:20250726T110000
DTEND;TZID=America/New_York:20250726T140000
DTSTAMP:20260420T011854
CREATED:20250726T185146Z
LAST-MODIFIED:20251103T150430Z
UID:10003372-1753527600-1753538400@gardrolma.org
SUMMARY:Phowa\, Amitabha & Amitayus Teachings and Practice
DESCRIPTION:From Calgary\, Alberta Canada with Khenpo Samdup Rinpoche\n\n\n\n \n\n\n\n\n\n\n\n\n\n\n\nSATURDAY DAY JULY 26th‌‌* 11:00 am – 1‌:00 ‌pm E‌DT – Teachings & Practice1:00 pm – 2:00 pm EDT – Daily Practice \n\n\n\nSUNDAY JULY 20th‌  \n\n\n\n‌* 11:00 am – 1‌:00 ‌pm E‌DT – Teachings & Practice1:00 pm – 2:00 pm EDT – Daily Practice \n\n\n\n*Mandarin translation available \n\n\n\nJoin Khenpo and the international sangha in Calgary\, Alberta Canada for the direct instructions and transmission on Drikung Kagyu Phowa.  \n\n\n\nAlso connected with this practice Khenpo will discuss Amitabha\, a Buddha of infinite light and compassion\, often associated with the Pure Land. And Amitayus\, a form of Amitabha\, specifically focused on infinite life\, and is often depicted holding a long-life vase.  \n\n\n\nText Download\n\n\n\n\nDrikung Kagyu Phowa Text\n\n\n\n\n\n\n\n\n\n\n\n\nWe are only able to offer Dharma programs like this because of your kindness and generosity. Please know that your donation brings great benefit to the entire Sangha. Thank you! \n\n\n\n\nDonations Appreciated\n\n\n\n\n\n\n\n\n\n\n\n\n\n\nVideo Library\n\n\n\n\n\n\n\n\n\n\n\n\n\n\n\n\nReturn to Video Library Page
URL:https://gardrolma.org/programs/phowa-amitabha-amitayus-teachings-and-practice/
LOCATION:Gar Drolma Buddhist Center\, 1329 Creighton Ave.\, Dayton\, OH\, 45420\, United States
CATEGORIES:Special,Video 2025
ATTACH;FMTTYPE=image/webp:https://gardrolma.org/wp-content/uploads/2025/07/PhowaAmitabhaAmitayus3x.webp
GEO:39.741206;-84.1541782
X-APPLE-STRUCTURED-LOCATION;VALUE=URI;X-ADDRESS=Gar Drolma Buddhist Center 1329 Creighton Ave. Dayton OH 45420 United States;X-APPLE-RADIUS=500;X-TITLE=1329 Creighton Ave.:geo:-84.1541782,39.741206
END:VEVENT
BEGIN:VEVENT
DTSTART;TZID=America/New_York:20250727T110000
DTEND;TZID=America/New_York:20250727T140000
DTSTAMP:20260420T011854
CREATED:20250721T185305Z
LAST-MODIFIED:20250721T185308Z
UID:10003373-1753614000-1753624800@gardrolma.org
SUMMARY:Phowa\, Amitabha & Amitayus Teachings and Practice
DESCRIPTION:From Calgary\, Alberta Canada with Khenpo Samdup Rinpoche\n\n\n\n \n\n\n\n\n\n\n\n\n\n\n\nSATURDAY DAY JULY 26th‌‌* 11:00 am – 1‌:00 ‌pm E‌DT – Teachings & Practice1:00 pm – 2:00 pm EDT – Daily Practice \n\n\n\nSUNDAY JULY 20th‌  \n\n\n\n‌* 11:00 am – 1‌:00 ‌pm E‌DT – Teachings & Practice1:00 pm – 2:00 pm EDT – Daily Practice \n\n\n\n*Mandarin translation available \n\n\n\nJoin Khenpo and the international sangha in Calgary\, Alberta Canada for the direct instructions and transmission on Drikung Kagyu Phowa.  \n\n\n\nAlso connected with this practice Khenpo will discuss Amitabha\, a Buddha of infinite light and compassion\, often associated with the Pure Land. And Amitayus\, a form of Amitabha\, specifically focused on infinite life\, and is often depicted holding a long-life vase.  \n\n\n\nText Download\n\n\n\n\nDrikung Kagyu Phowa Text\n\n\n\n\n\n\n\n\nPlease click below to get Zoom info or to make a donation.\n\n\n\n\nRequest Zoom Info Here\n\n\n\nDonations Appreciated\n\n\n\n\nWe are only able to offer Dharma programs like this because of your kindness and generosity. Please know that your donation brings great benefit to the entire Sangha. Thank you!
URL:https://gardrolma.org/programs/phowa-amitabha-amitayus-teachings-and-practice-2/
LOCATION:Gar Drolma Buddhist Center\, 1329 Creighton Ave.\, Dayton\, OH\, 45420\, United States
CATEGORIES:Special
ATTACH;FMTTYPE=image/webp:https://gardrolma.org/wp-content/uploads/2025/07/PhowaAmitabhaAmitayus3x.webp
GEO:39.741206;-84.1541782
X-APPLE-STRUCTURED-LOCATION;VALUE=URI;X-ADDRESS=Gar Drolma Buddhist Center 1329 Creighton Ave. Dayton OH 45420 United States;X-APPLE-RADIUS=500;X-TITLE=1329 Creighton Ave.:geo:-84.1541782,39.741206
END:VEVENT
END:VCALENDAR