BEGIN:VCALENDAR
VERSION:2.0
PRODID:-//Gar Drolma Buddhist Learning and Meditation Center - ECPv6.15.20//NONSGML v1.0//EN
CALSCALE:GREGORIAN
METHOD:PUBLISH
X-WR-CALNAME:Gar Drolma Buddhist Learning and Meditation Center
X-ORIGINAL-URL:https://gardrolma.org
X-WR-CALDESC:Events for Gar Drolma Buddhist Learning and Meditation Center
REFRESH-INTERVAL;VALUE=DURATION:PT1H
X-Robots-Tag:noindex
X-PUBLISHED-TTL:PT1H
BEGIN:VTIMEZONE
TZID:America/New_York
BEGIN:DAYLIGHT
TZOFFSETFROM:-0500
TZOFFSETTO:-0400
TZNAME:EDT
DTSTART:20160313T070000
END:DAYLIGHT
BEGIN:STANDARD
TZOFFSETFROM:-0400
TZOFFSETTO:-0500
TZNAME:EST
DTSTART:20161106T060000
END:STANDARD
BEGIN:DAYLIGHT
TZOFFSETFROM:-0500
TZOFFSETTO:-0400
TZNAME:EDT
DTSTART:20170312T070000
END:DAYLIGHT
BEGIN:STANDARD
TZOFFSETFROM:-0400
TZOFFSETTO:-0500
TZNAME:EST
DTSTART:20171105T060000
END:STANDARD
BEGIN:DAYLIGHT
TZOFFSETFROM:-0500
TZOFFSETTO:-0400
TZNAME:EDT
DTSTART:20180311T070000
END:DAYLIGHT
BEGIN:STANDARD
TZOFFSETFROM:-0400
TZOFFSETTO:-0500
TZNAME:EST
DTSTART:20181104T060000
END:STANDARD
END:VTIMEZONE
BEGIN:VEVENT
DTSTART;TZID=America/New_York:20171220T183000
DTEND;TZID=America/New_York:20171220T193000
DTSTAMP:20260424T115621
CREATED:20161221T144744Z
LAST-MODIFIED:20171128T151142Z
UID:10002492-1513794600-1513798200@gardrolma.org
SUMMARY:Beginner's Buddhism
DESCRIPTION:We are fortunate to have our teacher Khenpo Samdup Rinpoche offer these teachings and participate in the discussion when available. When Khenpo is unable to attend a senior student will facilitate and lead the discussions. \nEach week the class consists of two parts:\nBasic Concepts and Meditation.  \nIn the first half of each class we hold a casual and informal discussion of the concepts that form the core of the Buddhist path.  These basic concepts are the first steps for all Buddhist practitioners\, and include topics such as: \n\nRefuge To take refuge in the Buddha\, Dharma and Sangha\, the basis of Buddhism.\nFour Noble Truths contain the essence of the Buddha’s teachings. It was these four principles that the Buddha came to understand during his meditation under the Bodhi tree.\nFour thoughts that turn the mind. 1) Precious Human Life 2) Death and Impermanence 3) Karma (Cause and Effect) 4) Suffering (Unsatisfactory Nature of Samsara).\nThe Two Truths. This doctrine tells us that existence can be understood as both ultimate and conventional (or\, absolute and relative). Conventional truth is how we usually see the world\, a place full of diverse and distinctive things and beings. Ultimate truth is that there are no distinctive things or beings. To say there are no distinctive things or beings is not to say that nothing exists; it is saying that there are no distinctions.\nSix Paramitas. The six perfections (paramitas) are: generosity\, ethics\, patience\, enthusiastic perseverance\, concentration and wisdom. For each perfection we will be looking at its meaning\, the method of following it\, its divisions and what should be done in the practice of that perfection.\nKarma Cause and Effect. The fundamental law of karma\, cause and effect\, is that the result of a virtuous deed is always happiness\, and the result of a non-virtuous deed is always suffering.\nBodhichitta. In Sanskrit\, bodhi means “awakened” and chitta means “mind” or “heart.” Bodhichitta — “awakened heart-mind” — is the compassionate wish to realize enlightenment for all beings\, not just oneself. Through Bodhichitta\, the desire to attain enlightenment transcends the narrow interests of the individual self.\nThree Roots and the Dharma Protectors. The three roots are the Guru\, Yidam and Dakini. The Guru is the root of blessings\, the Yidam of accomplishment\, and the Dakini of activity.  A Dharma Protector is an emanation of a Buddha or a Bodhisattva whose main functions are to avert the inner and outer obstacles that prevent practitioners from gaining spiritual realizations\, and to arrange all the necessary conditions for their practice.\nSeven Branches which involves seven different ways of accumulating merit\, each of which serves a specific purpose. The offerings are: prostration\, offering\, confession\, rejoicing\, requesting the turning of the wheel of the dharma\, asking Buddha not to pass into parinirvana\, and dedication of merit.\nThree Vehicles. The three vehicles or paths of Buddhism which are: Hinayana\, Mahayana and Vajrayana.\nVajrayana Empowerments. This is the process by which a lama with experience in the particular practice confers on others the description\, explanation\, visualization and order of the practice\, along with appropriate offerings and specific mantras.\nSix Bardo. In Tibetan Buddhism\, a bardo is an in-between state. The word is often used to mean a state between death and rebirth.\n\nEach week the beginning concept class consists of a teaching one of the above topics along with open discussion time for questions and answers. It is important to have a solid foundation to fully understand the continuing path of Buddhism and this is the perfect\, open atmosphere in which to begin. \nIn the second half of the class each week meditation is taught: \n\nShamatha\, or Calm Abiding\, meditation helps to free the mind from disturbing emotions and conceptual thinking processes. It brings the mind under control\, under discipline\, with some degree of single pointed focus\, with full alertness of mind. By doing this meditation\, the individual is able to suppress disturbing emotions and gain inner peace\, harmony and balance. The basics of how to practice are discussed each week.\n\nThe study of concepts and the practice of meditation are core components of the Buddhist path. Combining the two greatly facilitates the practitioner’s progress.
URL:https://gardrolma.org/programs/beginners-buddhism-2017-12-20-2017-12-20/
LOCATION:Gar Drolma Buddhist Center\, 1329 Creighton Ave.\, Dayton\, OH\, 45420\, United States
CATEGORIES:Beginners Class,Weekly
GEO:39.741206;-84.1541782
X-APPLE-STRUCTURED-LOCATION;VALUE=URI;X-ADDRESS=Gar Drolma Buddhist Center 1329 Creighton Ave. Dayton OH 45420 United States;X-APPLE-RADIUS=500;X-TITLE=1329 Creighton Ave.:geo:-84.1541782,39.741206
END:VEVENT
BEGIN:VEVENT
DTSTART;TZID=America/New_York:20171129T183000
DTEND;TZID=America/New_York:20171129T193000
DTSTAMP:20260424T115621
CREATED:20161221T144744Z
LAST-MODIFIED:20171128T150214Z
UID:10002490-1511980200-1511983800@gardrolma.org
SUMMARY:Beginner's Buddhism
DESCRIPTION:We are fortunate to have our teacher Khenpo Samdup Rinpoche offer these teachings and participate in the discussion when available. When Khenpo is unable to attend a senior student will facilitate and lead the discussions. \nEach week the class consists of two parts:\nBasic Concepts and Meditation.  \nIn the first half of each class we hold a casual and informal discussion of the concepts that form the core of the Buddhist path.  These basic concepts are the first steps for all Buddhist practitioners\, and include topics such as: \n\nRefuge To take refuge in the Buddha\, Dharma and Sangha\, the basis of Buddhism.\nFour Noble Truths contain the essence of the Buddha’s teachings. It was these four principles that the Buddha came to understand during his meditation under the Bodhi tree.\nFour thoughts that turn the mind. 1) Precious Human Life 2) Death and Impermanence 3) Karma (Cause and Effect) 4) Suffering (Unsatisfactory Nature of Samsara).\nThe Two Truths. This doctrine tells us that existence can be understood as both ultimate and conventional (or\, absolute and relative). Conventional truth is how we usually see the world\, a place full of diverse and distinctive things and beings. Ultimate truth is that there are no distinctive things or beings. To say there are no distinctive things or beings is not to say that nothing exists; it is saying that there are no distinctions.\nSix Paramitas. The six perfections (paramitas) are: generosity\, ethics\, patience\, enthusiastic perseverance\, concentration and wisdom. For each perfection we will be looking at its meaning\, the method of following it\, its divisions and what should be done in the practice of that perfection.\nKarma Cause and Effect. The fundamental law of karma\, cause and effect\, is that the result of a virtuous deed is always happiness\, and the result of a non-virtuous deed is always suffering.\nBodhichitta. In Sanskrit\, bodhi means “awakened” and chitta means “mind” or “heart.” Bodhichitta — “awakened heart-mind” — is the compassionate wish to realize enlightenment for all beings\, not just oneself. Through Bodhichitta\, the desire to attain enlightenment transcends the narrow interests of the individual self.\nThree Roots and the Dharma Protectors. The three roots are the Guru\, Yidam and Dakini. The Guru is the root of blessings\, the Yidam of accomplishment\, and the Dakini of activity.  A Dharma Protector is an emanation of a Buddha or a Bodhisattva whose main functions are to avert the inner and outer obstacles that prevent practitioners from gaining spiritual realizations\, and to arrange all the necessary conditions for their practice.\nSeven Branches which involves seven different ways of accumulating merit\, each of which serves a specific purpose. The offerings are: prostration\, offering\, confession\, rejoicing\, requesting the turning of the wheel of the dharma\, asking Buddha not to pass into parinirvana\, and dedication of merit.\nThree Vehicles. The three vehicles or paths of Buddhism which are: Hinayana\, Mahayana and Vajrayana.\nVajrayana Empowerments. This is the process by which a lama with experience in the particular practice confers on others the description\, explanation\, visualization and order of the practice\, along with appropriate offerings and specific mantras.\nSix Bardo. In Tibetan Buddhism\, a bardo is an in-between state. The word is often used to mean a state between death and rebirth.\n\nEach week the beginning concept class consists of a teaching one of the above topics along with open discussion time for questions and answers. It is important to have a solid foundation to fully understand the continuing path of Buddhism and this is the perfect\, open atmosphere in which to begin. \nIn the second half of the class each week meditation is taught: \n\nShamatha\, or Calm Abiding\, meditation helps to free the mind from disturbing emotions and conceptual thinking processes. It brings the mind under control\, under discipline\, with some degree of single pointed focus\, with full alertness of mind. By doing this meditation\, the individual is able to suppress disturbing emotions and gain inner peace\, harmony and balance. The basics of how to practice are discussed each week.\n\nThe study of concepts and the practice of meditation are core components of the Buddhist path. Combining the two greatly facilitates the practitioner’s progress.
URL:https://gardrolma.org/programs/beginners-buddhism-2017-12-20/
LOCATION:Gar Drolma Buddhist Center\, 1329 Creighton Ave.\, Dayton\, OH\, 45420\, United States
CATEGORIES:Beginners Class,Weekly
GEO:39.741206;-84.1541782
X-APPLE-STRUCTURED-LOCATION;VALUE=URI;X-ADDRESS=Gar Drolma Buddhist Center 1329 Creighton Ave. Dayton OH 45420 United States;X-APPLE-RADIUS=500;X-TITLE=1329 Creighton Ave.:geo:-84.1541782,39.741206
END:VEVENT
END:VCALENDAR